BEGIN:VCALENDAR
VERSION:2.0
PRODID:-//ChamberMaster//Event Calendar 2.0//EN
METHOD:PUBLISH
X-PUBLISHED-TTL:P3D
REFRESH-INTERVAL:P3D
CALSCALE:GREGORIAN
BEGIN:VEVENT
DTSTART:20231017T230000Z
DTEND:20231018T000000Z
X-MICROSOFT-CDO-ALLDAYEVENT:FALSE
SUMMARY:Ribbon Cutting | JPAR Modern Real Estate
DESCRIPTION:Join us in welcoming Daniel Kuhlman\, with JPAR Modern Real Estate\, to the Longmont Chamber community!\n\nPlease note the time change\, this ribbon cutting is from 5-6PM.\n\n\n\nAbout JPAR Modern Real Estate\nJPAR is a Top 50 Real Estate Broker and a Top 10 US Hottest Business Franchise. The Modern Real Estate office in Arvada\, covers the entire state with hundreds of agents serving residential\, commercial\, as well as farm and ranch. Together they support their agents with a high level of technology and training not typically found in many agencies. \n\n\n\n"It's tough enough buying and selling real estate in Colorado's face-paced market. You shouldn't have to worry about whether your broker understands you and can fully support you through every step of the complex and stressful process. To me\, helping you buy or sell your home is not just a casual hobby pursuit\, but the professional culmination of everything I have done to date. I've got you."
X-ALT-DESC;FMTTYPE=text/html:Join us in welcoming Daniel Kuhlman\, with JPAR Modern Real Estate\, to the Longmont Chamber community!<br />\nPlease note the time change\, this ribbon cutting is from 5-6PM.<br />\n<br />\n<strong>About JPAR Modern Real Estate</strong>\n<div>JPAR is a Top 50 Real Estate Broker and a Top 10 US Hottest Business Franchise. The Modern Real Estate office in Arvada\, covers the entire state with hundreds of agents serving residential\, commercial\, as well as farm and ranch. Together they support their agents with a high level of technology and training not typically found in many agencies.&nbsp\;</div>\n\n<div><br />\n&quot\;It&rsquo\;s tough enough buying and selling real estate in Colorado&rsquo\;s face-paced market. You shouldn&rsquo\;t have to worry about whether your broker understands you&nbsp\;and can fully support you through every step of the complex and stressful process. To me\, helping you buy or sell your home is not just a casual hobby pursuit\, but the professional culmination of everything I have done to date. I&#39\;ve got you.&quot\;&nbsp\; &nbsp\;<br />\n&nbsp\;</div>\n
LOCATION:24 James Circle\, Longmont CO There is plenty of parking along the street on either side\, and in both directions. Please enter through the open gate to the right of the garage. The event will be outdoors\, and the firepit will be going to keep you warm! If necessary\, the event will move indoors.
UID:e.3083.9958
SEQUENCE:3
DTSTAMP:20260422T200939Z
URL:https://members.longmontchamber.org/events/details/ribbon-cutting-jpar-modern-real-estate-9958
END:VEVENT

END:VCALENDAR
