BEGIN:VCALENDAR
VERSION:2.0
PRODID:-//ChamberMaster//Event Calendar 2.0//EN
METHOD:PUBLISH
X-PUBLISHED-TTL:P3D
REFRESH-INTERVAL:P3D
CALSCALE:GREGORIAN
BEGIN:VEVENT
DTSTART:20240215T230000Z
DTEND:20240216T000000Z
X-MICROSOFT-CDO-ALLDAYEVENT:FALSE
SUMMARY:Ribbon Cutting | Laguna Mexican Restaurant
DESCRIPTION:Join us in celebrating Laguna Mexican Restaurant!\n\n\n\nAbout Laguna\n\nJoin us in celebrating this amazing business located in the Prospect neighborhood.  Come early to celebrate! Your first Margarita is only $1!
X-ALT-DESC;FMTTYPE=text/html:Join us in celebrating Laguna Mexican Restaurant!<br />\n<br />\n<strong>About Laguna</strong>\n<div color:="" font-feature-settings:="" font-kerning:="" font-optical-sizing:="" font-variation-settings:="" helvetica="" margin:="" padding:="" segoe="" ui="" vertical-align:="" web="" west="">\n<p>Join us in celebrating this amazing business located in the Prospect neighborhood.&nbsp\; Come early to celebrate! Your first&nbsp\;Margarita is only $1!</p>\n</div>\n
LOCATION:645 Tenacity Drive A Longmont Colorado
UID:e.3083.10007
SEQUENCE:3
DTSTAMP:20260422T150519Z
URL:https://members.longmontchamber.org/events/details/ribbon-cutting-laguna-mexican-restaurant-10007
END:VEVENT

END:VCALENDAR
