BEGIN:VCALENDAR
VERSION:2.0
PRODID:-//ChamberMaster//Event Calendar 2.0//EN
METHOD:PUBLISH
X-PUBLISHED-TTL:P3D
REFRESH-INTERVAL:P3D
CALSCALE:GREGORIAN
BEGIN:VEVENT
DTSTART:20220428T220000Z
DTEND:20220428T230000Z
X-MICROSOFT-CDO-ALLDAYEVENT:FALSE
SUMMARY:Ribbon Cutting | Lash and Company Longmont
DESCRIPTION:Join us in welcoming new member Lash and Company Longmont to the Longmont Chamber community!\n\n\n\nAbout Lash and Company Longmont\n\nA full-service beauty and med spa. We offer appearance-improving services and treatments under the care and direction of our experienced physicians and estheticians.
X-ALT-DESC;FMTTYPE=text/html:Join us in welcoming new member Lash and Company Longmont to the Longmont Chamber community!<br />\n<br />\n<strong>About Lash and Company Longmont</strong><br />\nA full-service beauty and med spa. We offer appearance-improving services and treatments under the care and direction of our experienced physicians and estheticians.
LOCATION:2130 Mountain View Ave\, Longmont\, CO
UID:e.3083.8683
SEQUENCE:3
DTSTAMP:20260424T000236Z
URL:https://members.longmontchamber.org/events/details/ribbon-cutting-lash-and-company-longmont-8683
END:VEVENT

END:VCALENDAR
