BEGIN:VCALENDAR
VERSION:2.0
PRODID:-//ChamberMaster//Event Calendar 2.0//EN
METHOD:PUBLISH
X-PUBLISHED-TTL:P3D
REFRESH-INTERVAL:P3D
CALSCALE:GREGORIAN
BEGIN:VEVENT
DTSTART:20200109T230000Z
DTEND:20200110T000000Z
X-MICROSOFT-CDO-ALLDAYEVENT:FALSE
SUMMARY:Ribbon Cutting: LCJP
DESCRIPTION:Join us at a Ribbon Cutting for the Longmont Community Justice Partnership!\n\n\n\nLongmont Community Justice Partnership (LCJP) provides restorative justice processes in partnership with other community agencies. LCJP trains volunteers to facilitate dialogue between offenders and victims of crime to repair relationships.\n\n\n\nRibbon Cuttings are a great way to celebrate our members\, network\, meet fellow Chamber Members and learn something about Longmont businesses.
X-ALT-DESC;FMTTYPE=text/html:<span style="font-size:14px\;"><span style="font-family:tahoma\;">Join us at a Ribbon Cutting for the Longmont Community Justice Partnership!<br />\n<br />\n<span style="color: rgb(81\, 83\, 81)\;">Longmont Community Justice Partnership (LCJP) provides restorative justice processes in partnership with other community agencies. LCJP trains volunteers to facilitate dialogue between offenders and victims of crime to repair relationships.</span><br />\n<br />\n<span style="color: rgb(0\, 0\, 0)\;">Ribbon Cuttings are a great way to celebrate our&nbsp\;members\, network\, meet fellow Chamber Members and learn something about Longmont businesses.</span></span></span>
LOCATION:LCJP 528 Main St. Longmont\, CO 8051
UID:e.3083.7361
SEQUENCE:3
DTSTAMP:20260425T195834Z
URL:https://members.longmontchamber.org/events/details/ribbon-cutting-lcjp-7361
END:VEVENT

END:VCALENDAR
