BEGIN:VCALENDAR
VERSION:2.0
PRODID:-//ChamberMaster//Event Calendar 2.0//EN
METHOD:PUBLISH
X-PUBLISHED-TTL:P3D
REFRESH-INTERVAL:P3D
CALSCALE:GREGORIAN
BEGIN:VEVENT
DTSTART:20191108T230000Z
DTEND:20191109T000000Z
X-MICROSOFT-CDO-ALLDAYEVENT:FALSE
SUMMARY:Ribbon Cutting: LDDA
DESCRIPTION:Join us in celebrating the new office space for the LDDA!\n\n\n\nThe LDDA represents and promotes the Downtown & Creative District in Longmont\, CO.\n\n\n\nRibbon Cuttings are a great way to celebrate our members\, network\, meet fellow Chamber Members and learn something about Longmont businesses.
X-ALT-DESC;FMTTYPE=text/html:Join us in celebrating the new office space for the LDDA!<br />\n<br />\nThe LDDA represents and promotes the Downtown &amp\; Creative District in Longmont\, CO.<br />\n<br />\n<span style="color: rgb(0\, 0\, 0)\; font-family: tahoma\; font-size: 14px\;">Ribbon Cuttings are a great way to celebrate our&nbsp\;members\, network\, meet fellow Chamber Members and learn something about Longmont businesses.</span>
LOCATION:LDDA 320 Main St. Longmont\, CO 80501
UID:e.3083.7331
SEQUENCE:3
DTSTAMP:20260425T231738Z
URL:https://members.longmontchamber.org/events/details/ribbon-cutting-ldda-7331
END:VEVENT

END:VCALENDAR
