BEGIN:VCALENDAR
VERSION:2.0
PRODID:-//ChamberMaster//Event Calendar 2.0//EN
METHOD:PUBLISH
X-PUBLISHED-TTL:P3D
REFRESH-INTERVAL:P3D
CALSCALE:GREGORIAN
BEGIN:VEVENT
DTSTART:20240808T220000Z
DTEND:20240808T230000Z
X-MICROSOFT-CDO-ALLDAYEVENT:FALSE
SUMMARY:Ribbon Cutting | LoCo Burrito
DESCRIPTION:Join us in celebrating LoCo Burrito!\n\n\n\nAbout LoCo Burrito\n\nThis hard-working family is following their American dream by doing what they love most - bringing delicious food to the community while actively teaching their kids that hard work pays off in the most rewarding ways.\n\n\n\nJoin us in celebrating one of our local faves!
X-ALT-DESC;FMTTYPE=text/html:Join us in celebrating LoCo Burrito!<br />\n<br />\n<strong>About LoCo Burrito</strong>\n<div color:="" font-feature-settings:="" font-kerning:="" font-optical-sizing:="" font-variation-settings:="" helvetica="" margin:="" padding:="" segoe="" ui="" vertical-align:="" web="" west="">\n<p>This hard-working&nbsp\;family is following their American dream by doing what they love most - bringing delicious food to the community while actively teaching their kids that hard work pays off in the most rewarding ways.<br />\n<br />\nJoin us in celebrating one of our local faves!</p>\n</div>\n
LOCATION:
UID:e.3083.10127
SEQUENCE:3
DTSTAMP:20260422T031402Z
URL:https://members.longmontchamber.org/events/details/ribbon-cutting-loco-burrito-10127
END:VEVENT

END:VCALENDAR
