BEGIN:VCALENDAR
VERSION:2.0
PRODID:-//ChamberMaster//Event Calendar 2.0//EN
METHOD:PUBLISH
X-PUBLISHED-TTL:P3D
REFRESH-INTERVAL:P3D
CALSCALE:GREGORIAN
BEGIN:VEVENT
DTSTART:20230803T220000Z
DTEND:20230803T230000Z
X-MICROSOFT-CDO-ALLDAYEVENT:FALSE
SUMMARY:Ribbon Cutting | Longmont Axe House
DESCRIPTION:Join us in welcoming new member Longmont Axe House to the Longmont Chamber community!\n\n\n\nAbout Longmont Axe House\n\n\n\nThe Longmont Axe House is moving in on The Slope\, carving its way in off of First Avenue and Main Street\, breaking the mold of what entertainment can be in downtown Longmont.\n\n\n\nWe have 5 axe-throwing lanes in the front area\, a private axe-throwing room in the back\, 2 dart-throwing lanes\, shuffleboard\, and plenty of seating.\n\n\n\nThere is a dry bar on-site serving alcohol\, with canned and bottled beverages only   no liquor\, glassware\, or taps.\n\n\n\nWe cater to a diverse audience\, including first-time axe throwers and those who participate in leagues and visit regularly to stay competitive.\n\n\n\nThe Longmont Axe House is a member of the World Axe Throwing League\, or WATL\, allowing it to host certified leagues and tournaments. This membership sets it apart from other venues\, as it allows players to earn points that contribute to their national standings.
X-ALT-DESC;FMTTYPE=text/html:<br />\nJoin us in welcoming new member Longmont Axe House to the Longmont Chamber community!<br />\n<br />\n<strong>About Longmont Axe House</strong><br />\n<br />\nThe Longmont Axe House is moving in on The Slope\, carving its way in off of First Avenue and Main Street\, breaking the mold of what entertainment can be in downtown Longmont.<br />\n<br />\nWe have 5 axe-throwing lanes in the front area\, a private axe-throwing room in the back\, 2 dart-throwing lanes\, shuffleboard\, and plenty of seating.<br />\n<br />\nThere is a dry bar on-site serving alcohol\, with canned and bottled beverages only &mdash\; no liquor\, glassware\, or taps.<br />\n<br />\nWe cater to a diverse audience\, including first-time axe throwers and those who participate in leagues and visit regularly to stay competitive.<br />\n<br />\nThe Longmont Axe House is a member of the World Axe Throwing League\, or WATL\, allowing it to host certified leagues and tournaments. This membership sets it apart from other venues\, as it allows players to earn points that contribute to their national standings.
LOCATION:
UID:e.3083.9930
SEQUENCE:3
DTSTAMP:20260422T232526Z
URL:https://members.longmontchamber.org/events/details/ribbon-cutting-longmont-axe-house-9930
END:VEVENT

END:VCALENDAR
