BEGIN:VCALENDAR
VERSION:2.0
PRODID:-//ChamberMaster//Event Calendar 2.0//EN
METHOD:PUBLISH
X-PUBLISHED-TTL:P3D
REFRESH-INTERVAL:P3D
CALSCALE:GREGORIAN
BEGIN:VEVENT
DTSTART:20221111T000000Z
DTEND:20221111T010000Z
X-MICROSOFT-CDO-ALLDAYEVENT:FALSE
SUMMARY:Ribbon Cutting | Longmont Florist
DESCRIPTION:Join us in celebrating Longmont Florist as they pass the business down to the next generation!\n\n\n\nAbout Longmont Florist\n\nLongmont Florist is a family-owned flower shop  "helping people spread joy" in the Longmont community since 1969. They are a full-service flower shop helping people celebrate birthdays\, holidays\, weddings\, celebrations of life\, and everything in between all over the front range. They can now claim to be a 3rd generation family business as Brad Golter steps into retirement and passes ownership to his son Nate Golter and wife Lisa Golter (Nate's mom).
X-ALT-DESC;FMTTYPE=text/html:Join us in celebrating Longmont Florist as they pass the business down to the next generation!<br />\n<br />\n<strong>About Longmont Florist</strong><br />\nLongmont Florist is a family-owned flower shop&nbsp\; &quot\;helping people spread joy&quot\; in the Longmont community since 1969. They are a full-service flower shop helping people celebrate birthdays\, holidays\, weddings\, celebrations of life\, and everything in between all over the front range. They can now claim to be a 3rd generation family business as Brad Golter steps into retirement and passes ownership to his son Nate Golter and wife Lisa Golter (Nate&#39\;s mom).&nbsp\;<br />\n
LOCATION:614 Coffman St Longmont\, CO
UID:e.3083.9116
SEQUENCE:3
DTSTAMP:20260423T130956Z
URL:https://members.longmontchamber.org/events/details/ribbon-cutting-longmont-florist-9116
END:VEVENT

END:VCALENDAR
