BEGIN:VCALENDAR
VERSION:2.0
PRODID:-//ChamberMaster//Event Calendar 2.0//EN
METHOD:PUBLISH
X-PUBLISHED-TTL:P3D
REFRESH-INTERVAL:P3D
CALSCALE:GREGORIAN
BEGIN:VEVENT
DTSTART:20230214T230000Z
DTEND:20230215T000000Z
X-MICROSOFT-CDO-ALLDAYEVENT:FALSE
SUMMARY:Ribbon Cutting | Longmont Small Animal Hospital
DESCRIPTION:Join us in celebrating the 7th anniversary of the Longmont Small Animal Hospital!\n\n\n\nAbout Longmont Small Animal Hospital!\n\nWe are a full service small animal hospital providing comprehensive healthcare services to pets in Longmont and the surrounding areas. Our veterinarians offer a wide variety of medical\, surgical and dental services.  We provide thorough\, individualized care for our patients from pediatrics to seniors.\n\n\n\nOur veterinary hospital is well equipped with advanced equipment and technologies to provide the highest standard of care for your pet. Our facility has the ability to provide comprehensive in-house testing including blood work\, digital x-ray\, ultrasound.  Additionally\, Longmont Small Animal Hospital is equipped with a state of the art surgical suite\, advanced dental suite (coming soon!)\, pharmacy\, and more. \n\n\n\nDr. Elliott\, Dr. Wunder\, and staff are dedicated to providing the highest quality of veterinary care with a commitment to preserving and maintaining the human-animal bond.  Our goal is to exceed your expectations by providing excellence in patient care and client education.
X-ALT-DESC;FMTTYPE=text/html:<br />\nJoin us in celebrating the 7th anniversary of the Longmont Small Animal Hospital!<br />\n<br />\n<strong>About&nbsp\;Longmont Small Animal Hospital!</strong><br />\nWe are a full service small animal hospital providing comprehensive healthcare services to pets in Longmont and the surrounding areas. Our veterinarians offer a wide variety of medical\, surgical and dental services.&nbsp\; We provide thorough\, individualized care for our patients from pediatrics to seniors.<br />\n<br />\nOur veterinary hospital is well equipped with advanced equipment and technologies to provide the highest standard of care for your pet. Our facility has the ability to provide comprehensive in-house testing including blood work\, digital x-ray\, ultrasound.&nbsp\; Additionally\, Longmont Small Animal Hospital is equipped with a state of the art surgical suite\, advanced dental suite (coming soon!)\, pharmacy\, and more.&nbsp\;<br />\n<br />\nDr. Elliott\, Dr. Wunder\, and staff are dedicated to providing the highest quality of veterinary care with a commitment to preserving and maintaining the human-animal bond.&nbsp\; Our goal is to exceed your expectations by providing excellence in patient care and client education.&nbsp\;&nbsp\;
LOCATION:
UID:e.3083.9269
SEQUENCE:3
DTSTAMP:20260423T101029Z
URL:https://members.longmontchamber.org/events/details/ribbon-cutting-longmont-small-animal-hospital-9269
END:VEVENT

END:VCALENDAR
