BEGIN:VCALENDAR
VERSION:2.0
PRODID:-//ChamberMaster//Event Calendar 2.0//EN
METHOD:PUBLISH
X-PUBLISHED-TTL:P3D
REFRESH-INTERVAL:P3D
CALSCALE:GREGORIAN
BEGIN:VEVENT
DTSTART:20200123T230000Z
DTEND:20200124T000000Z
X-MICROSOFT-CDO-ALLDAYEVENT:FALSE
SUMMARY:Ribbon Cutting: LQ Ventures
DESCRIPTION:Join us in welcoming LQ Ventures to the Longmont Chamber!\n\n\n\nA community creative company fleshing out a new approach to our overall media experience!\n\n\n\nRibbon Cuttings are a great way to celebrate our members\, network\, meet fellow Chamber Members and learn something about Longmont businesses.
X-ALT-DESC;FMTTYPE=text/html:<span style="font-size:14px\;"><span style="font-family:tahoma\;">Join us in welcoming LQ Ventures to the Longmont Chamber!<br />\n<br />\n<span style="color: rgb(81\, 83\, 81)\;">A community creative company fleshing out a new approach to our overall media experience!</span><br />\n<br />\n<span style="color: rgb(0\, 0\, 0)\;">Ribbon Cuttings are a great way to celebrate our&nbsp\;members\, network\, meet fellow Chamber Members and learn something about Longmont businesses.</span></span></span>
LOCATION:Longtucky Spirits 350 Terry St Suite 120 Longmont\, CO 80501
UID:e.3083.7363
SEQUENCE:3
DTSTAMP:20260425T213922Z
URL:https://members.longmontchamber.org/events/details/ribbon-cutting-lq-ventures-7363
END:VEVENT

END:VCALENDAR
