BEGIN:VCALENDAR
VERSION:2.0
PRODID:-//ChamberMaster//Event Calendar 2.0//EN
METHOD:PUBLISH
X-PUBLISHED-TTL:P3D
REFRESH-INTERVAL:P3D
CALSCALE:GREGORIAN
BEGIN:VEVENT
DTSTART:20240418T220000Z
DTEND:20240418T230000Z
X-MICROSOFT-CDO-ALLDAYEVENT:FALSE
SUMMARY:Ribbon Cutting | LUH Hope Cancer Care Center Expansion
DESCRIPTION:Join us in celebrating CommonSpirit Longmont United Hospital's expansion of the Hope Cancer Care Center! Now offering chemotherapy and medical oncology services in addition to radiation oncology treatments!\n\nsponsored by the Longmont United Hospital Foundation\n\n\n\nAbout Hope Cancer Care Center\n\nAt Longmont United Hospital's Hope Cancer Care Center\, we bring together the best and brightest minds in cancer care\, armed with leading edge technologies and capabilities that offer a complete array of services\, connecting patients with all types of cancers and blood disorders to the most advanced care available in Northern Colorado.\n\nAbout Longmont United Hospital Foundation\n\nThe Longmont United Hospital Foundation is dedicated to administering all fundraising methods that benefit the people\, programs and facilities of the hospital and the communities it serves.
X-ALT-DESC;FMTTYPE=text/html:Join us in celebrating CommonSpirit Longmont United Hospital&#39\;s expansion of the Hope Cancer Care Center! Now offering chemotherapy and medical oncology services in addition to radiation oncology treatments!<br />\n<em>sponsored by the Longmont United Hospital Foundation</em><br />\n<br />\n<strong>About Hope Cancer Care Center</strong><br />\nAt Longmont United Hospital&rsquo\;s Hope Cancer Care Center\, we bring together the best and brightest minds in cancer care\, armed with leading edge technologies and capabilities that offer a complete array of services\, connecting patients with all types of cancers and blood disorders to the most advanced care available in Northern Colorado.\n<div color:="" font-feature-settings:="" font-kerning:="" font-optical-sizing:="" font-variation-settings:="" helvetica="" margin:="" padding:="" segoe="" ui="" vertical-align:="" web="" west="">\n<p><strong>About Longmont United Hospital Foundation</strong><br />\nThe Longmont United Hospital Foundation is dedicated to administering all fundraising methods that benefit the people\, programs and facilities of the hospital and the communities it serves.</p>\n</div>\n
LOCATION:LUH Medical Office Building located at 2030 Mountain View\, Suite 540.
UID:e.3083.10050
SEQUENCE:3
DTSTAMP:20260422T105418Z
URL:https://members.longmontchamber.org/events/details/ribbon-cutting-luh-hope-cancer-care-center-expansion-10050
END:VEVENT

END:VCALENDAR
