BEGIN:VCALENDAR
VERSION:2.0
PRODID:-//ChamberMaster//Event Calendar 2.0//EN
METHOD:PUBLISH
X-PUBLISHED-TTL:P3D
REFRESH-INTERVAL:P3D
CALSCALE:GREGORIAN
BEGIN:VEVENT
DTSTART:20240418T150000Z
DTEND:20240418T160000Z
X-MICROSOFT-CDO-ALLDAYEVENT:FALSE
SUMMARY:Ribbon Cutting | McKessen / Cover My Meds
DESCRIPTION:Join us for the Grand Opening / Open House of McKessen / CoverMyMeds!\n\nMeet the team\, take a tour of the facility\, enjoy networking and refreshments!\n\n\n\nAbout McKessen / CoverMyMeds\n\n" Helping people get the medicine they need to live healthier lives"\n\n\n	Designing and delivering complete systems or enhancements to automate central fill pharmacies\, ranging in scope from 2\,000 prescriptions/day to 80\,000 prescriptions/day\n	Leveraging and enhancing "Sanitas" and "Base" software solutions to manage automation systems\, routings\, and inventories\n	Manufacturing equipment\, controls\, and conveyance including: labeling\, dispensing\, weight and image verification\, capping and sealing\, sortation\, and packing\n	Managing\, installing\, testing and ramping systems for McKesson and external customers
X-ALT-DESC;FMTTYPE=text/html:Join us for the Grand Opening / Open House of McKessen / CoverMyMeds!<br />\nMeet the team\, take a tour of the facility\, enjoy networking and refreshments!<br />\n<br />\n<strong>About McKessen / CoverMyMeds</strong>\n<div color:="" font-feature-settings:="" font-kerning:="" font-optical-sizing:="" font-variation-settings:="" helvetica="" margin:="" padding:="" segoe="" ui="" vertical-align:="" web="" west="">\n<p class="x_MsoNormal" style="margin: 0in\; font-size: 11pt\; font-family: Calibri\, sans-serif\; color: rgb(36\, 36\, 36)\;"><span style="border: 0px\; font-style: inherit\; font-variant: inherit\; font-weight: inherit\; font-stretch: inherit\; font-size: 14pt\; line-height: inherit\; font-family: inherit\; font-optical-sizing: inherit\; font-kerning: inherit\; font-feature-settings: inherit\; font-variation-settings: inherit\; margin: 0px\; padding: 0px\; vertical-align: baseline\; color: inherit\;">&ldquo\; Helping people get the medicine they need to live healthier lives&rdquo\;</span></p>\n\n<ul font-size:="" helvetica="" margin-top:="" segoe="" style="margin-bottom: 0in\; color: rgb(36\, 36\, 36)\; font-family: " type="disc" ui="" web="" west="">\n	<li class="x_MsoListParagraph" style="margin: 0in\; font-size: 11pt\; font-family: Calibri\, sans-serif\;"><span style="border: 0px\; font-style: inherit\; font-variant: inherit\; font-weight: inherit\; font-stretch: inherit\; font-size: 14pt\; line-height: inherit\; font-family: inherit\; font-optical-sizing: inherit\; font-kerning: inherit\; font-feature-settings: inherit\; font-variation-settings: inherit\; margin: 0px\; padding: 0px\; vertical-align: baseline\; color: black\;">Designing and delivering complete systems or enhancements to automate central fill pharmacies\, ranging in scope from 2\,000 prescriptions/day to 80\,000 prescriptions/day</span></li>\n	<li class="x_MsoListParagraph" style="margin: 0in\; font-size: 11pt\; font-family: Calibri\, sans-serif\;"><span style="border: 0px\; font-style: inherit\; font-variant: inherit\; font-weight: inherit\; font-stretch: inherit\; font-size: 14pt\; line-height: inherit\; font-family: inherit\; font-optical-sizing: inherit\; font-kerning: inherit\; font-feature-settings: inherit\; font-variation-settings: inherit\; margin: 0px\; padding: 0px\; vertical-align: baseline\; color: black\;">Leveraging and enhancing &ldquo\;Sanitas&rdquo\; and &ldquo\;Base&rdquo\; software solutions to manage automation systems\, routings\, and inventories</span></li>\n	<li class="x_MsoListParagraph" style="margin: 0in\; font-size: 11pt\; font-family: Calibri\, sans-serif\;"><span style="border: 0px\; font-style: inherit\; font-variant: inherit\; font-weight: inherit\; font-stretch: inherit\; font-size: 14pt\; line-height: inherit\; font-family: inherit\; font-optical-sizing: inherit\; font-kerning: inherit\; font-feature-settings: inherit\; font-variation-settings: inherit\; margin: 0px\; padding: 0px\; vertical-align: baseline\; color: black\;">Manufacturing equipment\, controls\, and conveyance including: labeling\, dispensing\, weight and image verification\, capping and sealing\, sortation\, and packing</span></li>\n	<li class="x_MsoListParagraph" style="margin: 0in\; font-size: 11pt\; font-family: Calibri\, sans-serif\;"><span style="border: 0px\; font-style: inherit\; font-variant: inherit\; font-weight: inherit\; font-stretch: inherit\; font-size: 14pt\; line-height: inherit\; font-family: inherit\; font-optical-sizing: inherit\; font-kerning: inherit\; font-feature-settings: inherit\; font-variation-settings: inherit\; margin: 0px\; padding: 0px\; vertical-align: baseline\; color: black\;">Managing\, installing\, testing and ramping systems for McKesson and external customers</span></li>\n</ul>\n</div>\n
LOCATION:
UID:e.3083.10076
SEQUENCE:3
DTSTAMP:20260422T105244Z
URL:https://members.longmontchamber.org/events/details/ribbon-cutting-mckessen-cover-my-meds-10076
END:VEVENT

END:VCALENDAR
