BEGIN:VCALENDAR
VERSION:2.0
PRODID:-//ChamberMaster//Event Calendar 2.0//EN
METHOD:PUBLISH
X-PUBLISHED-TTL:P3D
REFRESH-INTERVAL:P3D
CALSCALE:GREGORIAN
BEGIN:VEVENT
DTSTART:20250408T220000Z
DTEND:20250408T230000Z
X-MICROSOFT-CDO-ALLDAYEVENT:FALSE
SUMMARY:Ribbon Cutting | MECO Coffee
DESCRIPTION:Join us in celebrating MECO Coffee Collective in Frederick!\n\n\n\nAbout MECO:\n\nMECO provides a safe space for EVERYONE to enjoy.\n\nWe bring together local Colorado artists\, crafts-people and entrepreneurs through an inviting\, attractive and accessible coffee shop that is continuing to strive towards self exploration and business expansion\, guided by passion and love.\n\n\n\n\n\nIt all begins with an idea .\n\n\n\n\n\n an idea to produce your passion into something more.\n\n\n\n\n\n\n\n an idea to define your side hustle to more than just a passion project.\n\n .an idea of expansion for your current small business.\n\nMECO Coffee Collective is not only a place for you to come and enjoy a perfectly roasted\, local cup of coffee but also a space where you can showcase your artistic designs\, pre-packaged "anything" products and creations. \n\n\n\nThis is a Joint Ribbon Cutting with the Carbon Valley Chamber - let's show them how we show up for our members!
X-ALT-DESC;FMTTYPE=text/html:Join us in celebrating MECO Coffee Collective in Frederick!<br />\n<br />\n<strong>About MECO:</strong>\n<div color:="" font-feature-settings:="" font-kerning:="" font-optical-sizing:="" font-variation-settings:="" helvetica="" margin:="" padding:="" segoe="" ui="" vertical-align:="" web="" west="">\n<p>MECO provides a safe space for EVERYONE&nbsp\;to enjoy.</p>\n\n<p>We bring together local Colorado artists\, crafts-people and entrepreneurs through an inviting\, attractive and accessible coffee shop that is continuing to strive towards self exploration and business expansion\, guided by passion and love.</p>\n\n<div>\n<div data-block-type="2" id="block-09f452909b6eb6aba1df">\n<div>\n<div>\n<p>It all begins with an idea&hellip\;.</p>\n</div>\n</div>\n</div>\n\n<div data-block-type="9" id="block-yui_3_17_2_1_1631745092524_10221">\n<p data-animation-role="button">&hellip\;an idea to produce your passion into something more.</p>\n</div>\n</div>\n\n<div>\n<div data-block-type="2" id="block-7fed5b9f0556b695150e">\n<div>\n<div>\n<p>&hellip\;an idea to define your side hustle to more than just a passion project.</p>\n\n<p>&hellip\;.an idea of expansion for your current small business.</p>\n\n<p>MECO Coffee Collective is not only a place for you to come and enjoy a perfectly roasted\, local cup of coffee but also a space where you can showcase your artistic designs\, pre-packaged &ldquo\;anything&rdquo\; products and creations.&nbsp\;<br />\n<br />\nThis is a Joint Ribbon Cutting with the Carbon Valley Chamber - let&#39\;s show them how we show up for our members!</p>\n</div>\n</div>\n</div>\n</div>\n</div>\n
LOCATION:
UID:e.3083.12277
SEQUENCE:3
DTSTAMP:20260421T142736Z
URL:https://members.longmontchamber.org/events/details/ribbon-cutting-meco-coffee-12277
END:VEVENT

END:VCALENDAR
