BEGIN:VCALENDAR
VERSION:2.0
PRODID:-//ChamberMaster//Event Calendar 2.0//EN
METHOD:PUBLISH
X-PUBLISHED-TTL:P3D
REFRESH-INTERVAL:P3D
CALSCALE:GREGORIAN
BEGIN:VEVENT
DTSTART:20211021T220000Z
DTEND:20211021T230000Z
X-MICROSOFT-CDO-ALLDAYEVENT:FALSE
SUMMARY:Ribbon Cutting | Meco Coffee Collective
DESCRIPTION:Join us in welcoming new member MECO Coffee Collective to the Longmont Chamber community!\n\n\n\nAbout MECO Coffee Collective\n\nMECO provides a safe space for EVERYONE to enjoy. We bring together local Colorado artists\, crafts-people and entrepreneurs through an inviting\, attractive and accessible coffee shop that is continuing to strive towards self exploration and business expansion\, guided by passion and love.\n\n\n\nPer the Boulder County Health Order issued September 3rd\, we are requiring that all individuals wear a mask at this event.
X-ALT-DESC;FMTTYPE=text/html:Join us in welcoming new member MECO Coffee Collective to the Longmont Chamber community!<br />\n<br />\n<strong>About MECO Coffee Collective</strong><br />\nMECO provides a safe space for EVERYONE to enjoy. We bring together local Colorado artists\, crafts-people and entrepreneurs through an inviting\, attractive and accessible coffee shop that is continuing to strive towards self exploration and business expansion\, guided by passion and love.<br />\n<br />\n<strong>Per the Boulder County Health Order issued September 3rd\, we are requiring that all individuals wear a mask at this event.</strong>
LOCATION:MECO Coffee Collective 627 Main St Longmont\, CO 80501
UID:e.3083.8616
SEQUENCE:3
DTSTAMP:20260424T092441Z
URL:https://members.longmontchamber.org/events/details/ribbon-cutting-meco-coffee-collective-8616
END:VEVENT

END:VCALENDAR
