BEGIN:VCALENDAR
VERSION:2.0
PRODID:-//ChamberMaster//Event Calendar 2.0//EN
METHOD:PUBLISH
X-PUBLISHED-TTL:P3D
REFRESH-INTERVAL:P3D
CALSCALE:GREGORIAN
BEGIN:VEVENT
DTSTART:20240509T220000Z
DTEND:20240509T230000Z
X-MICROSOFT-CDO-ALLDAYEVENT:FALSE
SUMMARY:Ribbon Cutting | Medicine Horse
DESCRIPTION:Join us in celebrating Medicine Horse!\n\n\n\nAbout Medicine Horse:\n\n\nOur Mission at Medicine Horse is to support the unique bond between humans and horses to facilitate healing and learning\, serving an inclusive community of veterans\, individuals in recovery\, the LGBTQ+ community\, and many more. Our vision is a world where this transformative therapy is accessible to all and fosters a healthier\, more connected society.\n\n\n\nThe event will feature a guided tour of our ranch\, offering you a firsthand look at where our transformative therapy sessions unfold. You'll have the chance to meet our therapy animals\, who are at the heart of our healing work\, and learn more about the positive impact of Equine Facilitated Therapy.\n\n\n\nTo round off your visit\, our therapy team will lead a short grounding session and meditation with the horses. This unique experience will provide a glimpse into the essence of our program.
X-ALT-DESC;FMTTYPE=text/html:<strong><span style="font-size:14px\;">Join us in celebrating Medicine Horse!<br />\n<br />\nAbout Medicine Horse:</span></strong>\n<div color:="" font-feature-settings:="" font-kerning:="" font-optical-sizing:="" font-variation-settings:="" helvetica="" margin:="" padding:="" segoe="" ui="" vertical-align:="" web="" west="">\n<div color:="" font-feature-settings:="" font-kerning:="" font-optical-sizing:="" font-variation-settings:="" helvetica="" margin:="" padding:="" segoe="" ui="" vertical-align:="" web="" west="">\n<p 0px="" 1.25em="" a="" and="" apple="" are="" at="" beautiful="" border:="" box-sizing:="" ceremony="" color="" cutting="" day="" equine="" explore="" extend="" facilitated="" for="" gain="" have="" helvetica="" horse.="" incredible="" insights="" into="" invitation="" join="" margin:="" medicine="" meet="" memorable="" noto="" opportunity="" our="" p="" ribbon="" segoe="" solid="" span="" the="" therapy="" thrilled="" to="" ui="" us="" warm="" we="" where="" will="" you=""><strong style="font-size: 14px\;">Our Mission</strong><span style="font-size:14px\;">&nbsp\;at Medicine Horse is to support the unique bond between humans and horses to facilitate healing and learning\, serving an inclusive community of veterans\, individuals in recovery\, the LGBTQ+ community\, and many more. Our vision is a world where this transformative therapy is accessible to all and fosters a healthier\, more connected society.<br />\n<br />\nThe event will feature a guided tour of our ranch\, offering you a firsthand look at where our transformative therapy sessions unfold. You&#39\;ll have the chance to meet our therapy animals\, who are at the heart of our healing work\, and learn more about the positive impact of Equine Facilitated Therapy.<br />\n<br />\nTo round off your visit\, our therapy team will lead a short grounding session and meditation with the horses. This unique experience will provide a glimpse into the essence of our program.</span></p>\n</div>\n</div>\n
LOCATION:
UID:e.3083.10052
SEQUENCE:3
DTSTAMP:20260422T104419Z
URL:https://members.longmontchamber.org/events/details/ribbon-cutting-medicine-horse-10052
END:VEVENT

END:VCALENDAR
