BEGIN:VCALENDAR
VERSION:2.0
PRODID:-//ChamberMaster//Event Calendar 2.0//EN
METHOD:PUBLISH
X-PUBLISHED-TTL:P3D
REFRESH-INTERVAL:P3D
CALSCALE:GREGORIAN
BEGIN:VEVENT
DTSTART:20190926T220000Z
DTEND:20190926T230000Z
X-MICROSOFT-CDO-ALLDAYEVENT:FALSE
SUMMARY:Ribbon Cutting: Michael F Pharris CPA
DESCRIPTION:Join us in celebrating Michael F Pharris's new office and 5th anniversary with a Ribbon Cutting!\n\n\n\nTraditional CPA firm offering bookkeeping services\, business advisory service as well as business and individual income tax consulting and compliance services. I strive to be a consultative advisor to my clients and help them become better stewards over their business and financial affairs by using accounting and financial data to drive the decision making process.\n\n\n\nRibbon Cuttings are a great way to celebrate our members\, network\, meet fellow Chamber Members and learn something about Longmont businesses.
X-ALT-DESC;FMTTYPE=text/html:Join us in celebrating Michael F Pharris&#39\;s new office and 5th anniversary with a Ribbon Cutting!<br />\n<br />\n<span style="color: rgb(81\, 83\, 81)\; font-family: CenturyGothic\, Arial\, Helvetica\, sans-serif\; font-size: 15px\;">Traditional CPA firm offering bookkeeping services\, business advisory service as well as business and individual income tax consulting and compliance services. I strive to be a consultative advisor to my clients and help them become better stewards over their business and financial affairs by using accounting and financial data to drive the decision making process.</span><br />\n<br />\n<span style="color: rgb(0\, 0\, 0)\; font-family: tahoma\; font-size: 14px\;">Ribbon Cuttings are a great way to celebrate our&nbsp\;members\, network\, meet fellow Chamber Members and learn something about Longmont businesses.</span>
LOCATION:717 5th Ave Longmont\, CO 80501
UID:e.3083.7117
SEQUENCE:3
DTSTAMP:20260426T024255Z
URL:https://members.longmontchamber.org/events/details/ribbon-cutting-michael-f-pharris-cpa-7117
END:VEVENT

END:VCALENDAR
