BEGIN:VCALENDAR
VERSION:2.0
PRODID:-//ChamberMaster//Event Calendar 2.0//EN
METHOD:PUBLISH
X-PUBLISHED-TTL:P3D
REFRESH-INTERVAL:P3D
CALSCALE:GREGORIAN
BEGIN:VEVENT
DTSTART:20230829T223000Z
DTEND:20230829T233000Z
X-MICROSOFT-CDO-ALLDAYEVENT:FALSE
SUMMARY:Ribbon Cutting | Mountain State Children's Home
DESCRIPTION:Join us in celebrating the new home at Mountain State Children's Home!\n\n\n\nAbout Mountain State Children's Home\n\nCome join us on Tuesday\, August 29 as we celebrate the opening of our newest campus home! This home will provide children with a room of their own and a loving environment in which they can heal and grow in stature.\n\n\n\nOur goal at Mountain States Children's Home is to teach children to be successful in a different way. Our desire is for our children to learn godly character traits such as loving others\, treating others as they would like to be treated\, dependability\, forgiveness\, gratefulness\, honor\, humility\, obedience\, responsibility\, respect\, self-control\, truthfulness\, and wisdom. These are some of the foundational principles of true success in life.
X-ALT-DESC;FMTTYPE=text/html:<br />\nJoin us in celebrating the new home at Mountain State Children&#39\;s Home!<br />\n<br />\n<strong>About&nbsp\;Mountain State Children&#39\;s Home</strong><br />\nCome join us on Tuesday\, August 29 as we celebrate the opening of our newest campus home! This home will provide children with a room of their own and a loving environment in which they can heal and grow in stature.<br />\n<br />\nOur goal at Mountain States Children&rsquo\;s Home is to teach children to be successful in a different way. Our desire is for our children to learn godly character traits such as loving others\, treating others as they would like to be treated\, dependability\, forgiveness\, gratefulness\, honor\, humility\, obedience\, responsibility\, respect\, self-control\, truthfulness\, and wisdom. These are some of the foundational principles of true success in life.
LOCATION:
UID:e.3083.9929
SEQUENCE:3
DTSTAMP:20260422T232656Z
URL:https://members.longmontchamber.org/events/details/ribbon-cutting-mountain-state-children-s-home-9929
END:VEVENT

END:VCALENDAR
