BEGIN:VCALENDAR
VERSION:2.0
PRODID:-//ChamberMaster//Event Calendar 2.0//EN
METHOD:PUBLISH
X-PUBLISHED-TTL:P3D
REFRESH-INTERVAL:P3D
CALSCALE:GREGORIAN
BEGIN:VEVENT
DTSTART:20230912T220000Z
DTEND:20230912T230000Z
X-MICROSOFT-CDO-ALLDAYEVENT:FALSE
SUMMARY:Ribbon Cutting | MY Wealth Planners
DESCRIPTION:Join us in celebrating MY Wealth Planner's new location in Prospect!\n\n\n\nAbout MY Wealth Planners\n\n\n\nAs an 8-year Chamber Member and advocate\, MY Wealth Planners began its practice as Longmont's first and only fee-only financial planning firm on a coffee table\, before growing to a single room in downtown Longmont\, and is ecstatic to invite you to tour its new space at the height of the  Prospect Neighborhood in Longmont.  Come enjoy the scenic Rocky Mountain views\, refreshments\, and celebrate the opening of this award-winning chamber member's new space.
X-ALT-DESC;FMTTYPE=text/html:<br />\nJoin us in celebrating MY Wealth Planner&#39\;s new location in Prospect!<br />\n<br />\n<strong>About MY Wealth Planners</strong><br />\n<br />\nAs an 8-year Chamber Member and advocate\, MY Wealth Planners began its practice as Longmont&#39\;s first and only fee-only financial planning firm on a coffee table\, before growing to a single room in downtown Longmont\, and is ecstatic to invite you to tour its new space at the height of the&nbsp\; Prospect Neighborhood in Longmont.&nbsp\; Come enjoy the scenic Rocky Mountain views\, refreshments\, and celebrate the opening of this award-winning chamber member&#39\;s new space.
LOCATION:
UID:e.3083.9932
SEQUENCE:3
DTSTAMP:20260422T215004Z
URL:https://members.longmontchamber.org/events/details/ribbon-cutting-my-wealth-planners-9932
END:VEVENT

END:VCALENDAR
