BEGIN:VCALENDAR
VERSION:2.0
PRODID:-//ChamberMaster//Event Calendar 2.0//EN
METHOD:PUBLISH
X-PUBLISHED-TTL:P3D
REFRESH-INTERVAL:P3D
CALSCALE:GREGORIAN
BEGIN:VEVENT
DTSTART:20250828T220000Z
DTEND:20250828T230000Z
X-MICROSOFT-CDO-ALLDAYEVENT:FALSE
SUMMARY:Ribbon Cutting | Nail The Close
DESCRIPTION:Join us in celebrating Nail The Close!\n\n\n\nAbout Nail The Close\n\nNAIL THE CLOSE helps home service professionals get found\, win more jobs\, and grow profitable brands through local SEO\, sales training\, and marketing automation.\n\n\n\nHosted by SouthState Bank - Parking in lot behind building on East side of Coffman. 2nd parking lot on West Coffman catty corner from bank.
X-ALT-DESC;FMTTYPE=text/html:Join us in celebrating Nail The Close!<br />\n<br />\n<strong>About Nail The Close</strong>\n<div color:="" font-feature-settings:="" font-kerning:="" font-optical-sizing:="" font-variation-settings:="" helvetica="" margin:="" padding:="" segoe="" ui="" vertical-align:="" web="" west="">\n<div style="border: 0px\; font: inherit\; margin: 0px\; padding: 0px\; vertical-align: baseline\; color: inherit\;"><strong data-olk-copy-source="MessageBody">NAIL THE CLOSE</strong>&nbsp\;helps home service professionals get found\, win more jobs\, and grow profitable brands through local SEO\, sales training\, and marketing automation.<br />\n<br />\nHosted by <strong>SouthState Bank </strong>-&nbsp\;Parking in&nbsp\;lot behind building on East side of Coffman. 2nd parking lot on West Coffman catty corner from bank.</div>\n</div>\n
LOCATION:SouthState Bank
UID:e.3083.14210
SEQUENCE:3
DTSTAMP:20260421T082341Z
URL:https://members.longmontchamber.org/events/details/ribbon-cutting-nail-the-close-14210
END:VEVENT

END:VCALENDAR
