BEGIN:VCALENDAR
VERSION:2.0
PRODID:-//ChamberMaster//Event Calendar 2.0//EN
METHOD:PUBLISH
X-PUBLISHED-TTL:P3D
REFRESH-INTERVAL:P3D
CALSCALE:GREGORIAN
BEGIN:VEVENT
DTSTART:20241203T230000Z
DTEND:20241204T000000Z
X-MICROSOFT-CDO-ALLDAYEVENT:FALSE
SUMMARY:Ribbon Cutting | NamaSTEM
DESCRIPTION:Join us in celebrating NamaSTEM!\n\n\n\nDrone soccer demo!  Nitrogen ice cream!  And lots of other fun stuff! \n\n\n\nAbout NamaSTEM\n\nNamaSTEM is former teachers offering dynamic\, progressive & hands-on STEM-based programs for 5 14-year-olds.   NamaSTEM is an officially vetted vendor for St. Vrain Valley schools.\n\n\n\nWe specialize with After Schoolers\, Summer Camps\, & Homeschoolers.\n\n\n\nWe offer programs with: Drones\, Robotics\, 3D Printing & 3D Design\, Minecraft Education\, Entrepreneurship\, Engineering\, Mindfulness\, & lots more.\n\n\n\nWe can even customize programs for your students!
X-ALT-DESC;FMTTYPE=text/html:<span style="font-size:16px\;"><span style="font-family:arial\;">Join us in celebrating NamaSTEM!</span></span><br />\n<br />\n<span style="font-size:16px\;"><span style="font-family:arial\;"><span data-olk-copy-source="MessageBody"><span style="color:#800080\;"><em><strong>Drone soccer demo!&nbsp\; Nitrogen ice cream!&nbsp\; And lots of other fun stuff!</strong></em></span> </span></span></span><br />\n<br />\n<span style="font-size:16px\;"><span style="font-family:arial\;"><strong>About NamaSTEM</strong></span></span>\n<div color:="" font-feature-settings:="" font-kerning:="" font-optical-sizing:="" font-variation-settings:="" helvetica="" margin:="" padding:="" segoe="" ui="" vertical-align:="" web="" west="">\n<p><span style="font-size:16px\;"><span style="font-family:arial\;"><span data-olk-copy-source="MessageBody" style="color: rgb(0\, 0\, 0)\;">NamaSTEM is former teachers offering dynamic\, progressive &amp\; hands-on STEM-based programs for 5&ndash\;14-year-olds.&nbsp\;&nbsp\;</span></span></span><span style="font-family: arial\; font-size: 16px\;">&nbsp\;<span style="color:#000000\;"><u>NamaSTEM is an officially vetted vendor for St. Vrain Valley schools</u>.</span></span><br />\n<br />\n<span style="font-size:16px\;"><span style="font-family:arial\;"><span data-olk-copy-source="MessageBody" style="color: rgb(0\, 0\, 0)\;">We specialize with After Schoolers\, Summer Camps\, &amp\; Homeschoolers.<br />\n<br />\nWe offer programs with: Drones\, Robotics\, 3D Printing &amp\; 3D Design\, Minecraft Education\, Entrepreneurship\, Engineering\, Mindfulness\, &amp\; lots more.<br />\n<br />\nWe can even customize programs for your students!</span></span></span></p>\n</div>\n
LOCATION:NamaSTEM is located around the back of the building. Behind Marvin Gardens Real Estate and Everest Restaurant.
UID:e.3083.10263
SEQUENCE:3
DTSTAMP:20260421T204108Z
URL:https://members.longmontchamber.org/events/details/ribbon-cutting-namastem-10263
END:VEVENT

END:VCALENDAR
