BEGIN:VCALENDAR
VERSION:2.0
PRODID:-//ChamberMaster//Event Calendar 2.0//EN
METHOD:PUBLISH
X-PUBLISHED-TTL:P3D
REFRESH-INTERVAL:P3D
CALSCALE:GREGORIAN
BEGIN:VEVENT
DTSTART:20241015T220000Z
DTEND:20241015T230000Z
X-MICROSOFT-CDO-ALLDAYEVENT:FALSE
SUMMARY:Ribbon Cutting | Nesheim's
DESCRIPTION:Join us in celebrating Nesheim's!\nNesheim's has been serving Boulder County and surrounding areas since 1981.  They offer full-service flooring maintenance that includes carpet cleaning and carpet repair.  Also specializing in area rug cleaning\, hardwood floor cleaning\, concrete cleaning\, tile/stone\, and grout cleaning\, and upholstery cleaning.  Nesheim's also specializes in water restoration.\n\n \n\nNesheim's decision to move to Longmont was to be in the heart of the community that they serve.
X-ALT-DESC;FMTTYPE=text/html:<br />\nJoin us in celebrating Nesheim&#39\;s!\n<div>Nesheim&rsquo\;s has been serving Boulder County and surrounding areas since 1981.&nbsp\; They&nbsp\;offer full-service flooring maintenance that includes carpet cleaning and carpet repair.&nbsp\; Also specializing in area rug cleaning\, hardwood floor cleaning\, concrete cleaning\, tile/stone\, and grout cleaning\, and upholstery cleaning.&nbsp\; Nesheim&rsquo\;s also specializes in water restoration.<br />\n&nbsp\;</div>\n\n<div>Nesheim&#39\;s decision to move to Longmont was to be in the heart&nbsp\;of the community that they serve.</div>\n
LOCATION:
UID:e.3083.10229
SEQUENCE:3
DTSTAMP:20260422T013037Z
URL:https://members.longmontchamber.org/events/details/ribbon-cutting-nesheim-s-10229
END:VEVENT

END:VCALENDAR
