BEGIN:VCALENDAR
VERSION:2.0
PRODID:-//ChamberMaster//Event Calendar 2.0//EN
METHOD:PUBLISH
X-PUBLISHED-TTL:P3D
REFRESH-INTERVAL:P3D
CALSCALE:GREGORIAN
BEGIN:VEVENT
DTSTART:20250722T220000Z
DTEND:20250722T230000Z
X-MICROSOFT-CDO-ALLDAYEVENT:FALSE
SUMMARY:Ribbon Cutting | New York Life\, Alex Tingley Agent
DESCRIPTION:Join us in celebrating New York Life\, Alex Tingley Agent\, new office location!\n\n\n\nAbout New York Life\, Alex Tingley Agent\n\nG. Alex Tingley is a local agent firm with the New York Life Insurance and Annuity Corporation and a Nylife Securities registered representative.  He has been doing business in Longmont since 1988.  His specialty focus is in retirement programs\, investment alternatives\, and various life insurance solutions.  Recently we relocated in our newly renovated and purchased office at 522 4th Avenue.  Hanna Palomo\, a four-year intern works here to support all client administration.  Contact information:  Office line 303-684-9240  Cell line 720-260-1188  atingley@ft.newyorklife.com\n\n\n\nOpen House / Office Warming / Ribbon Cutting - Food and Beverages provided!
X-ALT-DESC;FMTTYPE=text/html:Join us in celebrating New York Life\, Alex Tingley Agent\, new office location!<br />\n<br />\n<strong>About </strong>New York Life\, Alex Tingley Agent\n<div color:="" font-feature-settings:="" font-kerning:="" font-optical-sizing:="" font-variation-settings:="" helvetica="" margin:="" padding:="" segoe="" ui="" vertical-align:="" web="" west="">\n<p>G. Alex Tingley is a local agent firm with the New York Life Insurance and Annuity Corporation and a Nylife Securities registered representative.&nbsp\; He has been doing business in Longmont since 1988.&nbsp\; His specialty focus is in retirement programs\, investment alternatives\, and various life insurance solutions.&nbsp\; Recently we relocated in our newly renovated and purchased office at 522 4th Avenue.&nbsp\; Hanna Palomo\, a four-year intern works here to support all client administration.&nbsp\; Contact information:&nbsp\; Office line 303-684-9240&nbsp\; Cell line 720-260-1188&nbsp\; <a href="mailto:atingley@ft.newyorklife.com">atingley@ft.newyorklife.com</a><br />\n<br />\nOpen House / Office Warming / Ribbon Cutting - Food and Beverages provided!</p>\n</div>\n
LOCATION:
UID:e.3083.13555
SEQUENCE:3
DTSTAMP:20260421T095618Z
URL:https://members.longmontchamber.org/events/details/ribbon-cutting-new-york-life-alex-tingley-agent-13555
END:VEVENT

END:VCALENDAR
