BEGIN:VCALENDAR
VERSION:2.0
PRODID:-//ChamberMaster//Event Calendar 2.0//EN
METHOD:PUBLISH
X-PUBLISHED-TTL:P3D
REFRESH-INTERVAL:P3D
CALSCALE:GREGORIAN
BEGIN:VEVENT
DTSTART:20241101T220000Z
DTEND:20241102T000000Z
X-MICROSOFT-CDO-ALLDAYEVENT:FALSE
SUMMARY:Ribbon Cutting | Nextlight 10 Year Anniversary
DESCRIPTION:Join us in celebrating Nextlight's 10 Year Anniversary!
X-ALT-DESC;FMTTYPE=text/html:Join us in celebrating Nextlight&#39\;s 10 Year Anniversary!<br />\n<br />\n&nbsp\;
LOCATION:This celebration will be happening at Parkway Food Hall!
UID:e.3083.10181
SEQUENCE:3
DTSTAMP:20260421T223304Z
URL:https://members.longmontchamber.org/events/details/ribbon-cutting-nextlight-10-year-anniversary-10181
END:VEVENT

END:VCALENDAR
