BEGIN:VCALENDAR
VERSION:2.0
PRODID:-//ChamberMaster//Event Calendar 2.0//EN
METHOD:PUBLISH
X-PUBLISHED-TTL:P3D
REFRESH-INTERVAL:P3D
CALSCALE:GREGORIAN
BEGIN:VEVENT
DTSTART:20241024T220000Z
DTEND:20241024T230000Z
X-MICROSOFT-CDO-ALLDAYEVENT:FALSE
SUMMARY:Ribbon Cutting | Niwot Eye Care & Vision Therapy
DESCRIPTION:Join us in celebrating Niwot Eye Care & Vision Therapy!\n\n\n\nAbout Niwot Eye Care & Vision Therapy\n\n\n\nDr Amy Chang and Dr Shelley Rachal invite you to join us for a celebration at Niwot Eyecare & Vision Therapy!\nSince Dr Chang took over the business that was Niwot Vision from retiring practitioner Dr Hutchins in 2020\, we have been working to serve the Front Range community with the highest quality eye care and vision therapy using a unique approach of expert innovation\, collaborative care and a focus on how vision affects the whole person.\n\nThis has meant doubling our office space to include a focused vision therapy center and also welcoming Dr Shelley Rachal as our second expert eye doctor.\n\nAs we mark our 4th year in business here we have decided to hold our official ribbon cutting now and open our doors to celebrate with the community that has made us feel so welcome.\n\n\n	Catering by Niwot Market\, snacks and beverages available\n	Drawings for local business gift certificates\n	Meet the team and discover the approach that makes Niwot Eyecare & Vision Therapy different
X-ALT-DESC;FMTTYPE=text/html:Join us in celebrating Niwot Eye Care &amp\; Vision Therapy!<br />\n<br />\n<strong>About Niwot Eye Care &amp\; Vision Therapy</strong><br />\n<br />\nDr Amy Chang and Dr Shelley Rachal invite you to join us for a celebration at Niwot Eyecare &amp\; Vision Therapy!\n<p>Since Dr Chang took over the business that was Niwot Vision from retiring practitioner Dr Hutchins in 2020\, we have been working to serve the Front Range community with the highest quality eye care and vision therapy using a unique approach of expert innovation\, collaborative care and a focus on how vision affects the whole person.</p>\n\n<p>This has meant doubling our office space to include a focused vision therapy center and also welcoming Dr Shelley Rachal as our second expert eye doctor.</p>\n\n<p>As we mark our 4th year in business here we have decided to hold our official ribbon cutting now and open our doors to celebrate with the community that has made us feel so welcome.</p>\n\n<ul font-size:="" helvetica="" segoe="" ui="" web="" west="">\n	<li>Catering by Niwot Market\, snacks and beverages available</li>\n	<li>Drawings for local business gift certificates</li>\n	<li>Meet the team and discover the approach that makes Niwot Eyecare &amp\; Vision Therapy different</li>\n</ul>\n
LOCATION:
UID:e.3083.10231
SEQUENCE:3
DTSTAMP:20260422T013823Z
URL:https://members.longmontchamber.org/events/details/ribbon-cutting-niwot-eye-care-vision-therapy-10231
END:VEVENT

END:VCALENDAR
