BEGIN:VCALENDAR
VERSION:2.0
PRODID:-//ChamberMaster//Event Calendar 2.0//EN
METHOD:PUBLISH
X-PUBLISHED-TTL:P3D
REFRESH-INTERVAL:P3D
CALSCALE:GREGORIAN
BEGIN:VEVENT
DTSTART:20240516T220000Z
DTEND:20240516T230000Z
X-MICROSOFT-CDO-ALLDAYEVENT:FALSE
SUMMARY:Ribbon Cutting | Notch 66 Apartments
DESCRIPTION:Join us in celebrating Notch 66!\n\nLUXURY LIVING IN LONGMONT\n\n\n\nA PLACE TO CALL HOME\n\nWelcome to Notch66\, a community of one\, two\, and three-bedroom apartments in Longmont\, CO. With designer finishes\, spacious floor plans\, and exciting amenities throughout the community\, you'll be at ease when you call Notch66 home.\n\n\nAMENITIES\n\nUNWIND\, STAY ACTIVE\, SOCIALIZE AND ENJOY\n\nFrom our thoughtful and meticulously designed interior apartment homes in Longmont\, CO to our community amenities such as a resort-style pool\, grill stations\, and state-of-the-art workout room\, Notch66 will not disappoint.
X-ALT-DESC;FMTTYPE=text/html:Join us in celebrating Notch 66!\n<div color:="" font-feature-settings:="" font-kerning:="" font-optical-sizing:="" font-variation-settings:="" helvetica="" margin:="" padding:="" segoe="" ui="" vertical-align:="" web="" west="">\n<h1 background-color:="" color:="" font-size:="" local="" questrial="">LUXURY LIVING IN LONGMONT</h1>\n\n<div 0px="" arimo="" background-color:="" font-size:="" local="" padding:="">\n<div tabindex="0">\n<h3 color:="" fill:="" font-size:="" local="" questrial="">A PLACE TO CALL HOME</h3>\n\n<p>Welcome to Notch66\, a community of one\, two\, and three-bedroom apartments in Longmont\, CO. With designer finishes\, spacious floor plans\, and exciting amenities throughout the community\, you&rsquo\;ll be at ease when you call Notch66 home.</p>\n\n<div 1.5rem="" align-items:="" arimo="" background-color:="" center="" column="" display:="" flex="" flex-direction:="" flex-end="" font-size:="" justify-content:="" local="" padding-bottom:="" padding-top:="" right="" text-align:="">\n<h2 1rem="" fill:="" font-size:="" local="" margin-bottom:="" questrial="">AMENITIES</h2>\n\n<h3>UNWIND\, STAY ACTIVE\, SOCIALIZE AND ENJOY</h3>\n\n<p>From our thoughtful and meticulously designed interior apartment homes in Longmont\, CO to our community amenities such as a resort-style pool\, grill stations\, and state-of-the-art workout room\, Notch66 will not disappoint.</p>\n\n<div>\n<div>\n<div>\n<div>&nbsp\;</div>\n</div>\n</div>\n</div>\n</div>\n\n<div 1.5rem="" align-items:="" arimo="" background-color:="" class="animate fade-in delay-4 p-4 text-white justify-content-start align-items-stretch flex-column d-flex text-left col-12 col-md-6 col-xl-3 col-lg-6 run" column="" display:="" fill:="" flex="" flex-direction:="" flex-start="" font-size:="" justify-content:="" local="" padding-bottom:="" padding-top:="" stretch="" style="box-sizing: border-box\; position: relative\; width: 474.25px\; min-height: 1px\; padding-right: 0px\; padding-left: 0px\; flex: 0 0 25%\; max-width: 25%\; color: rgb(255\, 255\, 255)\; animation-delay: 1.6s\; transform: none\; opacity: 1\; transition: transform 0.4s cubic-bezier(0.65\, 0.05\, 0.36\, 1) 0.4s\, opacity 0.4s cubic-bezier(0.65\, 0.05\, 0.36\, 1) 0s\; font-family: Arimo\, ">\n<div class="ysi-picture-widget ysi-picture-wrapper  " style="box-sizing: border-box\;"><picture style="box-sizing: border-box\;"><source media="(min-width: 4500px)" srcset="https://resource.rentcafe.com/image/upload/x_0\,y_0\,w_4096\,h_2731\,c_crop/q_auto\,f_auto\,c_lfill\,w_2889\,ar_1.058\,g_auto/s3/2/127567/rd2%20-%20watermark%20notch%2066%20-%20pool.jpg" style="box-sizing: border-box\;" /><source media="(min-width: 3840px)" srcset="https://resource.rentcafe.com/image/upload/x_0\,y_0\,w_4096\,h_2731\,c_crop/q_auto\,f_auto\,c_lfill\,w_1125\,ar_1.058\,g_auto/s3/2/127567/rd2%20-%20watermark%20notch%2066%20-%20pool.jpg" style="box-sizing: border-box\;" /><source media="(min-width: 3200px)" srcset="https://resource.rentcafe.com/image/upload/x_0\,y_0\,w_4096\,h_2731\,c_crop/q_auto\,f_auto\,c_lfill\,w_960\,ar_1.058\,g_auto/s3/2/127567/rd2%20-%20watermark%20notch%2066%20-%20pool.jpg" style="box-sizing: border-box\;" /><source media="(min-width: 2560px)" srcset="https://resource.rentcafe.com/image/upload/x_0\,y_0\,w_4096\,h_2731\,c_crop/q_auto\,f_auto\,c_lfill\,w_800\,ar_1.058\,g_auto/s3/2/127567/rd2%20-%20watermark%20notch%2066%20-%20pool.jpg" style="box-sizing: border-box\;" /><source media="(min-width: 1920px)" srcset="https://resource.rentcafe.com/image/upload/x_0\,y_0\,w_4096\,h_2731\,c_crop/q_auto\,f_auto\,c_lfill\,w_640\,ar_1.058\,g_auto/s3/2/127567/rd2%20-%20watermark%20notch%2066%20-%20pool.jpg" style="box-sizing: border-box\;" /><source media="(min-width: 1440px)" srcset="https://resource.rentcafe.com/image/upload/x_0\,y_0\,w_4096\,h_2731\,c_crop/q_auto\,f_auto\,c_lfill\,w_480\,ar_1.058\,g_auto/s3/2/127567/rd2%20-%20watermark%20notch%2066%20-%20pool.jpg" style="box-sizing: border-box\;" /><source media="(min-width: 1200px)" srcset="https://resource.rentcafe.com/image/upload/x_0\,y_0\,w_4096\,h_2731\,c_crop/q_auto\,f_auto\,c_lfill\,w_360\,ar_1.058\,g_auto/s3/2/127567/rd2%20-%20watermark%20notch%2066%20-%20pool.jpg" style="box-sizing: border-box\;" /><source media="(min-width: 992px)" srcset="https://resource.rentcafe.com/image/upload/x_0\,y_0\,w_4096\,h_2731\,c_crop/q_auto\,f_auto\,c_lfill\,w_600\,ar_1.058\,g_auto/s3/2/127567/rd2%20-%20watermark%20notch%2066%20-%20pool.jpg" style="box-sizing: border-box\;" /><source media="(min-width: 768px)" srcset="https://resource.rentcafe.com/image/upload/x_0\,y_0\,w_4096\,h_2731\,c_crop/q_auto\,f_auto\,c_lfill\,w_496\,ar_1.058\,g_auto/s3/2/127567/rd2%20-%20watermark%20notch%2066%20-%20pool.jpg" style="box-sizing: border-box\;" /><source media="(min-width: 576px)" srcset="https://resource.rentcafe.com/image/upload/x_0\,y_0\,w_4096\,h_2731\,c_crop/q_auto\,f_auto\,c_lfill\,w_768\,ar_1.058\,g_auto/s3/2/127567/rd2%20-%20watermark%20notch%2066%20-%20pool.jpg" style="box-sizing: border-box\;" /></picture></div>\n</div>\n</div>\n</div>\n</div>\n
LOCATION:
UID:e.3083.10059
SEQUENCE:3
DTSTAMP:20260422T103607Z
URL:https://members.longmontchamber.org/events/details/ribbon-cutting-notch-66-apartments-10059
END:VEVENT

END:VCALENDAR
