BEGIN:VCALENDAR
VERSION:2.0
PRODID:-//ChamberMaster//Event Calendar 2.0//EN
METHOD:PUBLISH
X-PUBLISHED-TTL:P3D
REFRESH-INTERVAL:P3D
CALSCALE:GREGORIAN
BEGIN:VEVENT
DTSTART:20191031T220000Z
DTEND:20191031T230000Z
X-MICROSOFT-CDO-ALLDAYEVENT:FALSE
SUMMARY:Ribbon Cutting: Nothing Bundt Cakes
DESCRIPTION:Join us in welcoming Nothing Bundt Cakes into the Chamber of Commerce!\n\n\n\nTo find the perfect recipe\, you first need the perfect ingredients. And that's what our founders Dena Tripp and Debbie Shwetz were for each other. In 1997\, they joined forces\, or better yet kitchens\, to help make cakes to entertain their friends and family. The cakes they made were delicious\, unlike anything anyone had tasted. As a result\, their friends and family asked them to entertain more and more.\n\n\n\nThey quickly realized this side project of theirs could be something more. There was a gap in the world for delicious cakes\, readily available\, that didn't compromise on their ingredients. Real eggs\, butter and cream cheese\; nothing was too good to achieve perfection. And perfection are those decadent\, slowly melting bites\, we all know and love.\n\n\n\nFlash forward and the Nothing Bundt Cakes brand has grown nationwide. Built on Dena and Debbie's vision\, each bakery still has the warmth and nostalgia of its home-kitchen roots\, but we also take a modern approach for the world today. So whether you're enjoying a bundt cake or a bundtini one thing is certain - perfection is all we offer.\n\n\n\nRibbon Cuttings are a great way to celebrate our members\, network\, meet fellow Chamber Members and learn something about Longmont businesses.
X-ALT-DESC;FMTTYPE=text/html:Join us in welcoming Nothing Bundt Cakes into the Chamber of Commerce!<br />\n<br />\n<span style="color: rgb(81\, 83\, 81)\; font-family: CenturyGothic\, Arial\, Helvetica\, sans-serif\; font-size: 15px\;">To find the perfect recipe\, you first need the perfect ingredients. And that&#39\;s what our founders Dena Tripp and Debbie Shwetz were for each other. In 1997\, they joined forces\, or better yet kitchens\, to help make cakes to entertain their friends and family. The cakes they made were delicious\, unlike anything anyone had tasted. As a result\, their friends and family asked them to entertain more and more.</span><br style="box-sizing: content-box\; bottom: auto\; clear: none\; color: rgb(81\, 83\, 81)\; content: normal\; direction: inherit\; display: inline\; empty-cells: show\; float: none\; font-variant-numeric: inherit\; font-variant-east-asian: inherit\; font-stretch: inherit\; font-size: 15px\; font-family: CenturyGothic\, Arial\, Helvetica\, sans-serif\; left: auto\; line-height: inherit\; margin: 0px\; max-height: none\; max-width: none\; min-height: initial\; min-width: initial\; opacity: 1\; outline-offset: 0px\; overflow: visible\; padding: 0px\; position: static\; resize: none\; right: auto\; table-layout: auto\; text-overflow: clip\; top: auto\; vertical-align: baseline\; visibility: inherit\; word-break: inherit\; overflow-wrap: inherit\; z-index: auto\; background-image: none\; background-position: initial\; background-size: initial\; background-repeat: initial\; background-attachment: initial\; background-origin: initial\; background-clip: initial\; border: none\; border-collapse: separate\; border-radius: 0px\; height: auto\; width: auto\;" />\n<br style="box-sizing: content-box\; bottom: auto\; clear: none\; color: rgb(81\, 83\, 81)\; content: normal\; direction: inherit\; display: inline\; empty-cells: show\; float: none\; font-variant-numeric: inherit\; font-variant-east-asian: inherit\; font-stretch: inherit\; font-size: 15px\; font-family: CenturyGothic\, Arial\, Helvetica\, sans-serif\; left: auto\; line-height: inherit\; margin: 0px\; max-height: none\; max-width: none\; min-height: initial\; min-width: initial\; opacity: 1\; outline-offset: 0px\; overflow: visible\; padding: 0px\; position: static\; resize: none\; right: auto\; table-layout: auto\; text-overflow: clip\; top: auto\; vertical-align: baseline\; visibility: inherit\; word-break: inherit\; overflow-wrap: inherit\; z-index: auto\; background-image: none\; background-position: initial\; background-size: initial\; background-repeat: initial\; background-attachment: initial\; background-origin: initial\; background-clip: initial\; border: none\; border-collapse: separate\; border-radius: 0px\; height: auto\; width: auto\;" />\n<span style="color: rgb(81\, 83\, 81)\; font-family: CenturyGothic\, Arial\, Helvetica\, sans-serif\; font-size: 15px\;">They quickly realized this side project of theirs could be something more. There was a gap in the world for delicious cakes\, readily available\, that didn&#39\;t compromise on their ingredients. Real eggs\, butter and cream cheese\; nothing was too good to achieve perfection. And perfection are those decadent\, slowly melting bites\, we all know and love.</span><br style="box-sizing: content-box\; bottom: auto\; clear: none\; color: rgb(81\, 83\, 81)\; content: normal\; direction: inherit\; display: inline\; empty-cells: show\; float: none\; font-variant-numeric: inherit\; font-variant-east-asian: inherit\; font-stretch: inherit\; font-size: 15px\; font-family: CenturyGothic\, Arial\, Helvetica\, sans-serif\; left: auto\; line-height: inherit\; margin: 0px\; max-height: none\; max-width: none\; min-height: initial\; min-width: initial\; opacity: 1\; outline-offset: 0px\; overflow: visible\; padding: 0px\; position: static\; resize: none\; right: auto\; table-layout: auto\; text-overflow: clip\; top: auto\; vertical-align: baseline\; visibility: inherit\; word-break: inherit\; overflow-wrap: inherit\; z-index: auto\; background-image: none\; background-position: initial\; background-size: initial\; background-repeat: initial\; background-attachment: initial\; background-origin: initial\; background-clip: initial\; border: none\; border-collapse: separate\; border-radius: 0px\; height: auto\; width: auto\;" />\n<br style="box-sizing: content-box\; bottom: auto\; clear: none\; color: rgb(81\, 83\, 81)\; content: normal\; direction: inherit\; display: inline\; empty-cells: show\; float: none\; font-variant-numeric: inherit\; font-variant-east-asian: inherit\; font-stretch: inherit\; font-size: 15px\; font-family: CenturyGothic\, Arial\, Helvetica\, sans-serif\; left: auto\; line-height: inherit\; margin: 0px\; max-height: none\; max-width: none\; min-height: initial\; min-width: initial\; opacity: 1\; outline-offset: 0px\; overflow: visible\; padding: 0px\; position: static\; resize: none\; right: auto\; table-layout: auto\; text-overflow: clip\; top: auto\; vertical-align: baseline\; visibility: inherit\; word-break: inherit\; overflow-wrap: inherit\; z-index: auto\; background-image: none\; background-position: initial\; background-size: initial\; background-repeat: initial\; background-attachment: initial\; background-origin: initial\; background-clip: initial\; border: none\; border-collapse: separate\; border-radius: 0px\; height: auto\; width: auto\;" />\n<span style="color: rgb(81\, 83\, 81)\; font-family: CenturyGothic\, Arial\, Helvetica\, sans-serif\; font-size: 15px\;">Flash forward and the Nothing Bundt Cakes brand has grown nationwide. Built on Dena and Debbie&#39\;s vision\, each bakery still has the warmth and nostalgia of its home-kitchen roots\, but we also take a modern approach for the world today. So whether you&#39\;re enjoying a bundt cake or a bundtini one thing is certain - perfection is all we offer.</span><br />\n<br />\n<span style="color: rgb(0\, 0\, 0)\; font-family: tahoma\; font-size: 14px\;">Ribbon Cuttings are a great way to celebrate our&nbsp\;members\, network\, meet fellow Chamber Members and learn something about Longmont businesses.</span>
LOCATION:1242 S. Hover St. A-100 Longmont\, CO 80501
UID:e.3083.7149
SEQUENCE:3
DTSTAMP:20260426T005417Z
URL:https://members.longmontchamber.org/events/details/ribbon-cutting-nothing-bundt-cakes-7149
END:VEVENT

END:VCALENDAR
