BEGIN:VCALENDAR
VERSION:2.0
PRODID:-//ChamberMaster//Event Calendar 2.0//EN
METHOD:PUBLISH
X-PUBLISHED-TTL:P3D
REFRESH-INTERVAL:P3D
CALSCALE:GREGORIAN
BEGIN:VEVENT
DTSTART:20241210T230000Z
DTEND:20241211T000000Z
X-MICROSOFT-CDO-ALLDAYEVENT:FALSE
SUMMARY:Ribbon Cutting | Nothing Bundt Cakes - Longmont
DESCRIPTION:Join us in celebrating Nothing Bundt Cakes - Longmont!\n\n\n\nAbout Business\n\nNothing Bundt Cakes for over 27 years have been more than just a place to get dessert. Today Nothing Bundt Cakes is the #1 specialty cake company in the U.S. We pride ourselves on being an experience for all of life's joy moments whether it be a baby gender reveal\, weddings\, birthdays\, graduations and more!\n\n\n\nCheck out our Longmont location and satisfy your sweet tooth!
X-ALT-DESC;FMTTYPE=text/html:Join us in celebrating Nothing Bundt Cakes - Longmont!<br />\n<br />\n<strong>About Business</strong>\n<div color:="" font-feature-settings:="" font-kerning:="" font-optical-sizing:="" font-variation-settings:="" helvetica="" margin:="" padding:="" segoe="" ui="" vertical-align:="" web="" west="">\n<p><!--StartFragment--><span data-olk-copy-source="MessageBody">Nothing Bundt Cakes for over 27 years have been more than just a place to get dessert. Today Nothing Bundt Cakes is the #1 specialty cake company in the U.S. We pride ourselves on being an experience for all of life&#39\;s joy moments whether it be a baby gender reveal\, weddings\, birthdays\, graduations and more!<br />\n<br />\nCheck out our Longmont location and satisfy your sweet tooth!</span></p>\n</div>\n
LOCATION:
UID:e.3083.10499
SEQUENCE:3
DTSTAMP:20260421T204237Z
URL:https://members.longmontchamber.org/events/details/ribbon-cutting-nothing-bundt-cakes-longmont-10499
END:VEVENT

END:VCALENDAR
