BEGIN:VCALENDAR
VERSION:2.0
PRODID:-//ChamberMaster//Event Calendar 2.0//EN
METHOD:PUBLISH
X-PUBLISHED-TTL:P3D
REFRESH-INTERVAL:P3D
CALSCALE:GREGORIAN
BEGIN:VEVENT
DTSTART:20220512T220000Z
DTEND:20220512T230000Z
X-MICROSOFT-CDO-ALLDAYEVENT:FALSE
SUMMARY:Ribbon Cutting | Novus Auto Glass
DESCRIPTION:Join us in welcoming new member Novus Auto Glass to the Longmont Chamber community!\n\n\n\nAbout Novus Auto Glass\n\nAt Novus Glass of Longmont\, we understand the importance of getting your vehicle's glass repaired quickly and cost effectively. Our team of experts work directly with your insurance company to provide you a complete and hassle-free auto glass experience. Whether we're dealing with a seemingly minor chip or extensive auto glass damage\, we'll repair your vehicle in a precise\, accurate fashion. Our customers' safety is our top priority. We employ skilled\, highly trained professionals and we'll never skimp on materials or overall quality. With convenient hours and reasonable rates\, Novus Glass is the place to turn to in Northern Colorado and all of Denver.
X-ALT-DESC;FMTTYPE=text/html:Join us in welcoming new member Novus Auto Glass to the Longmont Chamber community!<br />\n<br />\n<strong>About Novus Auto Glass</strong><br />\nAt Novus Glass of Longmont\, we understand the importance of getting your vehicle&rsquo\;s glass repaired quickly and cost effectively. Our team of experts work directly with your insurance company to provide you a complete and hassle-free auto glass experience. Whether we&rsquo\;re dealing with a seemingly minor chip or extensive auto glass damage\, we&rsquo\;ll repair your vehicle in a precise\, accurate fashion. Our customers&rsquo\; safety is our top priority. We employ skilled\, highly trained professionals and we&rsquo\;ll never skimp on materials or overall quality. With convenient hours and reasonable rates\, Novus Glass is the place to turn to in Northern Colorado and all of Denver.
LOCATION:900 S Hover St Suite B\, Longmont\, CO
UID:e.3083.8669
SEQUENCE:3
DTSTAMP:20260423T223811Z
URL:https://members.longmontchamber.org/events/details/ribbon-cutting-novus-auto-glass-8669
END:VEVENT

END:VCALENDAR
