BEGIN:VCALENDAR
VERSION:2.0
PRODID:-//ChamberMaster//Event Calendar 2.0//EN
METHOD:PUBLISH
X-PUBLISHED-TTL:P3D
REFRESH-INTERVAL:P3D
CALSCALE:GREGORIAN
BEGIN:VEVENT
DTSTART:20240716T220000Z
DTEND:20240716T230000Z
X-MICROSOFT-CDO-ALLDAYEVENT:FALSE
SUMMARY:Ribbon Cutting | OnPoint Media & Communications
DESCRIPTION:Join us in celebrating OnPoint Media & Communications!\n\nAt OnPoint Media & Communications\, we believe that everyone has a story to tell\, and we are here to help them tell it. Founded in September 2020 in Colorado\, we have quickly become a leading marketing agency\, offering creative and innovative solutions in graphic design\, website design\, and digital marketing. \n\nOur team of experts are passionate about helping our clients craft their stories and reach their goals through the power of visuals\, words\, and technology. We strive to stay ahead of the curve and keep up with the latest trends in the industry to give our clients the best results.
X-ALT-DESC;FMTTYPE=text/html:Join us in celebrating OnPoint Media &amp\; Communications!\n<div color:="" font-feature-settings:="" font-kerning:="" font-optical-sizing:="" font-variation-settings:="" helvetica="" margin:="" padding:="" segoe="" ui="" vertical-align:="" web="" west="">\n<p>At OnPoint Media &amp\; Communications\, we believe that everyone has a story to tell\, and we are here to help them tell it. Founded in September 2020 in Colorado\, we have quickly become a leading marketing agency\, offering creative and innovative solutions in graphic design\, website design\, and digital marketing.&#8203\;</p>\n\n<p>Our team of experts are passionate about helping our clients craft their stories and reach their goals through the power of visuals\, words\, and technology. We strive to stay ahead of the curve and keep up with the latest trends in the industry to give our clients the best results.</p>\n</div>\n
LOCATION:This Ribbon Cutting will take place at the Longmont Chamber in the large conference room. There is plenty of parking to be found in the lot behind our building.
UID:e.3083.10099
SEQUENCE:3
DTSTAMP:20260422T043925Z
URL:https://members.longmontchamber.org/events/details/ribbon-cutting-onpoint-media-communications-10099
END:VEVENT

END:VCALENDAR
