BEGIN:VCALENDAR
VERSION:2.0
PRODID:-//ChamberMaster//Event Calendar 2.0//EN
METHOD:PUBLISH
X-PUBLISHED-TTL:P3D
REFRESH-INTERVAL:P3D
CALSCALE:GREGORIAN
BEGIN:VEVENT
DTSTART:20240521T223000Z
DTEND:20240521T233000Z
X-MICROSOFT-CDO-ALLDAYEVENT:FALSE
SUMMARY:Ribbon Cutting | Parkway Food Hall
DESCRIPTION:Join us in celebrating Parkway Food Hall!\n\n\n\nAbout Parkway Food Hall\n\nParkway brings together high-quality food and beverage concepts from the Front Range and beyond\, offering all eaters a variety of outstanding choices under one roof. Parkway's curated food and beverage program includes standout Colorado purveyors such as award-winning Chile con Quesadilla (Top Taco Denver winner 2021 and 2022.) The eight chef-driven vendors will include sushi and ramen\, pizza\, tacos\, barbecue and more. Parkway will also have an expansive bar with a full wine\, beer and cocktail list\, making it the place to be all day long.\n\nParkway has a wealth of delicious food and drink options for all ages\, is open from sun-up well past sundown\, expansive indoor and outdoor spaces for large gatherings\, and plenty of accessible parking. Parkway is the place for a morning meeting\, business lunch\, happy hour with friends\, date nights\, weeknight dinners\, and the weekend spot for live music and to watch the game. Every day offers a new reason to visit!\n\nParkway is located at 700 Ken Pratt Blvd. in Longmont's Parkway Promenade\, one of the city's most historic shopping centers. The principal architect\, Meridian 105\, is the design mastermind behind Avanti Food & Beverage and Edgewater Public Market. Seasoned food hall veterans National Food Hall Solutions\, the operating partner\, opened Denver's Junction Food & Drink in 2020\, which went on to win the NAIOP's 2020 Retail Development of the Year Award. Construction is led by Faurot Construction.
X-ALT-DESC;FMTTYPE=text/html:Join us in celebrating Parkway Food Hall!<br />\n<br />\n<strong>About Parkway Food Hall</strong>\n<div color:="" font-feature-settings:="" font-kerning:="" font-optical-sizing:="" font-variation-settings:="" helvetica="" margin:="" padding:="" segoe="" ui="" vertical-align:="" web="" west="">\n<p>Parkway brings together high-quality food and beverage concepts from the Front Range and beyond\, offering all eaters a variety of outstanding choices under one roof. Parkway&rsquo\;s curated food and beverage program includes standout Colorado purveyors such as award-winning Chile con Quesadilla (Top Taco Denver winner 2021 and 2022.) The eight chef-driven vendors will include sushi and ramen\, pizza\, tacos\, barbecue and more. Parkway will also have an expansive bar with a full wine\, beer and cocktail list\, making it the place to be all day long.</p>\n\n<p>Parkway has a wealth of delicious food and drink options for all ages\, is open from sun-up well past sundown\, expansive indoor and outdoor spaces for large gatherings\, and plenty of accessible parking. Parkway is the place for a morning meeting\, business lunch\, happy hour with friends\, date nights\, weeknight dinners\, and the weekend spot for live music&nbsp\;and to watch the game. Every day offers a new reason to visit!</p>\n\n<p>Parkway is located at 700 Ken Pratt Blvd. in Longmont&rsquo\;s Parkway Promenade\, one of the city&rsquo\;s most historic shopping centers. The principal architect\, <a href="https://www.meridian105.com/studio">Meridian 105</a>\, is the design mastermind behind Avanti Food &amp\; Beverage and Edgewater Public Market. Seasoned food hall veterans <a href="https://foodhallsolutions.com/">National Food Hall Solutions</a>\, the operating partner\, opened Denver&rsquo\;s Junction Food &amp\; Drink in 2020\, which went on to win the NAIOP&#39\;s 2020 Retail Development of the Year Award. Construction is led by <a href="https://faurotconstruction.com/">Faurot Construction</a>.</p>\n</div>\n
LOCATION:
UID:e.3083.10092
SEQUENCE:3
DTSTAMP:20260422T090835Z
URL:https://members.longmontchamber.org/events/details/ribbon-cutting-parkway-food-hall-10092
END:VEVENT

END:VCALENDAR
