BEGIN:VCALENDAR
VERSION:2.0
PRODID:-//ChamberMaster//Event Calendar 2.0//EN
METHOD:PUBLISH
X-PUBLISHED-TTL:P3D
REFRESH-INTERVAL:P3D
CALSCALE:GREGORIAN
BEGIN:VEVENT
DTSTART:20200220T230000Z
DTEND:20200221T000000Z
X-MICROSOFT-CDO-ALLDAYEVENT:FALSE
SUMMARY:Ribbon Cutting: PB&T Bank
DESCRIPTION:Join us at a Ribbon Cutting for PB&T Bank!\n\n\n\nAt PB&T Bank\, we are dedicated to meet the needs of businesses in Colorado. You need a bank that knows how to help you achieve your company's financial objectives\, a bank that understands your business\, your industry and your financial needs. PB&T Bank has the financing options to help with your day-to-day and long-term financial needs.\n\n\n\nEvery business is different\, and so are your business needs. When you need a specialized loan tailored to your company's requirements\, PB&T Bank can offer a host of options.
X-ALT-DESC;FMTTYPE=text/html:Join us at a Ribbon Cutting for PB&amp\;T Bank!<br />\n<br />\n<span style="color: rgb(81\, 83\, 81)\; font-family: CenturyGothic\, Arial\, Helvetica\, sans-serif\; font-size: 15px\;">At PB&amp\;T Bank\, we are dedicated to meet the needs of businesses in Colorado. You need a bank that knows how to help you achieve your company&#39\;s financial objectives\, a bank that understands your business\, your industry and your financial needs. PB&amp\;T Bank has the financing options to help with your day-to-day and long-term financial needs.</span><br style="box-sizing: content-box\; bottom: auto\; clear: none\; color: rgb(81\, 83\, 81)\; content: normal\; direction: inherit\; display: inline\; empty-cells: show\; float: none\; font-variant-numeric: inherit\; font-variant-east-asian: inherit\; font-stretch: inherit\; font-size: 15px\; font-family: CenturyGothic\, Arial\, Helvetica\, sans-serif\; left: auto\; line-height: inherit\; margin: 0px\; max-height: none\; max-width: none\; min-height: initial\; min-width: initial\; opacity: 1\; outline-offset: 0px\; overflow: visible\; padding: 0px\; position: static\; resize: none\; right: auto\; table-layout: auto\; text-overflow: clip\; top: auto\; vertical-align: baseline\; visibility: inherit\; word-break: inherit\; overflow-wrap: inherit\; z-index: auto\; background-image: none\; background-position: initial\; background-size: initial\; background-repeat: initial\; background-attachment: initial\; background-origin: initial\; background-clip: initial\; border: none\; border-collapse: separate\; border-radius: 0px\; height: auto\; width: auto\;" />\n<br style="box-sizing: content-box\; bottom: auto\; clear: none\; color: rgb(81\, 83\, 81)\; content: normal\; direction: inherit\; display: inline\; empty-cells: show\; float: none\; font-variant-numeric: inherit\; font-variant-east-asian: inherit\; font-stretch: inherit\; font-size: 15px\; font-family: CenturyGothic\, Arial\, Helvetica\, sans-serif\; left: auto\; line-height: inherit\; margin: 0px\; max-height: none\; max-width: none\; min-height: initial\; min-width: initial\; opacity: 1\; outline-offset: 0px\; overflow: visible\; padding: 0px\; position: static\; resize: none\; right: auto\; table-layout: auto\; text-overflow: clip\; top: auto\; vertical-align: baseline\; visibility: inherit\; word-break: inherit\; overflow-wrap: inherit\; z-index: auto\; background-image: none\; background-position: initial\; background-size: initial\; background-repeat: initial\; background-attachment: initial\; background-origin: initial\; background-clip: initial\; border: none\; border-collapse: separate\; border-radius: 0px\; height: auto\; width: auto\;" />\n<span style="color: rgb(81\, 83\, 81)\; font-family: CenturyGothic\, Arial\, Helvetica\, sans-serif\; font-size: 15px\;">Every business is different\, and so are your business needs. When you need a specialized loan tailored to your company&#39\;s requirements\, PB&amp\;T Bank can offer a host of options.</span>
LOCATION:351 Coffman Street Longmont\, CO 80501
UID:e.3083.7387
SEQUENCE:3
DTSTAMP:20260425T182620Z
URL:https://members.longmontchamber.org/events/details/ribbon-cutting-pb-t-bank-7387
END:VEVENT

END:VCALENDAR
