BEGIN:VCALENDAR
VERSION:2.0
PRODID:-//ChamberMaster//Event Calendar 2.0//EN
METHOD:PUBLISH
X-PUBLISHED-TTL:P3D
REFRESH-INTERVAL:P3D
CALSCALE:GREGORIAN
BEGIN:VEVENT
DTSTART:20191003T220000Z
DTEND:20191003T230000Z
X-MICROSOFT-CDO-ALLDAYEVENT:FALSE
SUMMARY:Ribbon Cutting: Peaceful Poppy Med Spa
DESCRIPTION:Join us at a Ribbon Cutting to welcome Peaceful Poppy Med Spa into the Chamber!\n\n\n\nJessica specializes in non-surgical facial sculpting and skin rejuvenation. She has 15 years of experience as a nurse working in multiple backgrounds. Jessica prides herself on the natural look of the services she provides. She uses only the finest facial fillers and neuromodulators alongside holistic consultations for clients on how to achieve and maintain their best\, healthiest skin.\n\n\n\nRibbon Cuttings are a great way to celebrate our members\, network\, meet fellow Chamber Members and learn something about Longmont businesses.
X-ALT-DESC;FMTTYPE=text/html:Join us at a Ribbon Cutting to welcome Peaceful Poppy Med Spa into the Chamber!<br />\n<br />\n<span style="color: rgb(81\, 83\, 81)\; font-family: CenturyGothic\, Arial\, Helvetica\, sans-serif\; font-size: 15px\;">Jessica specializes in non-surgical facial sculpting and skin rejuvenation. She has 15 years of experience as a nurse working in multiple backgrounds. Jessica prides herself on the natural look of the services she provides. She uses only the finest facial fillers and neuromodulators alongside holistic consultations for clients on how to achieve and maintain their best\, healthiest skin.</span><br />\n<br />\n<span style="color: rgb(0\, 0\, 0)\; font-family: tahoma\; font-size: 14px\;">Ribbon Cuttings are a great way to celebrate our&nbsp\;members\, network\, meet fellow Chamber Members and learn something about Longmont businesses.</span>
LOCATION:356 1/2 Main St. #1 Longmont\, CO 80501
UID:e.3083.7143
SEQUENCE:3
DTSTAMP:20260426T024255Z
URL:https://members.longmontchamber.org/events/details/ribbon-cutting-peaceful-poppy-med-spa-7143
END:VEVENT

END:VCALENDAR
