BEGIN:VCALENDAR
VERSION:2.0
PRODID:-//ChamberMaster//Event Calendar 2.0//EN
METHOD:PUBLISH
X-PUBLISHED-TTL:P3D
REFRESH-INTERVAL:P3D
CALSCALE:GREGORIAN
BEGIN:VEVENT
DTSTART:20230620T220000Z
DTEND:20230620T230000Z
X-MICROSOFT-CDO-ALLDAYEVENT:FALSE
SUMMARY:Ribbon Cutting | Peak Press Juicery
DESCRIPTION:Join us in welcoming new member Peak Press Juicery to the Longmont Chamber community!\n\n\n\nAbout Peak Press Juicery \n\nIndependent\, woman-owned juice shop serving and delivering fresh\, 100% organic\, cold-pressed juice\, nut and seed mylks and cleanses to the Longmont and surrounding communities. We make our juices and beverages in small batches\, with a focus on quality and a commitment to providing the most nutrient-dense and flavorful experience - "for your peak health".
X-ALT-DESC;FMTTYPE=text/html:Join us in welcoming new member Peak Press Juicery to the Longmont Chamber community!<br />\n<br />\n<strong>About Peak Press Juicery&nbsp\;</strong><br />\nIndependent\, woman-owned juice shop serving and delivering fresh\, 100% organic\, cold-pressed juice\, nut and seed mylks and cleanses to the Longmont and surrounding communities. We make our juices and beverages in small batches\, with a focus on quality and a commitment to providing the most nutrient-dense and flavorful experience - &quot\;for your peak health&quot\;.
LOCATION:1515 Main St\, Unit B\, on the South side of the building on the lower patio level below Blue Corn Tacos in Longmont\, CO.
UID:e.3083.9702
SEQUENCE:3
DTSTAMP:20260423T040154Z
URL:https://members.longmontchamber.org/events/details/ribbon-cutting-peak-press-juicery-9702
END:VEVENT

END:VCALENDAR
