BEGIN:VCALENDAR
VERSION:2.0
PRODID:-//ChamberMaster//Event Calendar 2.0//EN
METHOD:PUBLISH
X-PUBLISHED-TTL:P3D
REFRESH-INTERVAL:P3D
CALSCALE:GREGORIAN
BEGIN:VEVENT
DTSTART:20250313T220000Z
DTEND:20250313T230000Z
X-MICROSOFT-CDO-ALLDAYEVENT:FALSE
SUMMARY:Ribbon Cutting | Pelo's Deli and Provisions
DESCRIPTION:Join us in celebrating Pelo's Deli and Provisions!\n\n\n\nAbout Pelo's Deli and Provisions\n\nNestled in the heart of Longmont\, Pelo's Deli & Provisions is more than just a dining destination\; it's the realization of a lifelong dream by our proprietress\, Kim Brain\, to infuse the local culinary scene with the authentic flavors of Europe. Growing up in Valona Market\, a family-owned deli in Northern California\, Kim was imbued with a passion for food and community from an early age\, learning the trade from her parents\, Richard and Niki Brian.\n\nPelo's\, named after the steadfast delivery horse that served the historic storefront we now call home\, represents a blend of tradition and innovation. This European deli and grocery store not only offers a taste of Europe but also embodies a commitment to community and sustainability. Here\, every dish and product is a testament to Kim's culinary expertise and her deep-rooted passion for bringing people together through food.\n\nWe invite you to experience a unique blend of flavors and experiences at Pelo's\, where every visit celebrates the rich tapestry of European cuisine and the vibrant local culture of Longmont.
X-ALT-DESC;FMTTYPE=text/html:Join us in celebrating Pelo&#39\;s Deli and Provisions!<br />\n<br />\n<strong>About Pelo&#39\;s Deli and Provisions</strong>\n<div color:="" font-feature-settings:="" font-kerning:="" font-optical-sizing:="" font-variation-settings:="" helvetica="" margin:="" padding:="" segoe="" ui="" vertical-align:="" web="" west="">\n<p -webkit-font-smoothing:="" background-color:="" color:="" font-size:="" line-height:="" margin:="">Nestled in the heart of Longmont\, Pelo&#39\;s Deli &amp\; Provisions is more than just a dining destination\; it&#39\;s the realization of a lifelong dream by our proprietress\, Kim Brain\, to infuse the local culinary scene with the authentic flavors of Europe. Growing up in Valona Market\, a family-owned deli in Northern California\, Kim was imbued with a passion for food and community from an early age\, learning the trade from her parents\, Richard and Niki Brian.</p>\n\n<p -webkit-font-smoothing:="" background-color:="" color:="" font-size:="" line-height:="" margin:="">Pelo&#39\;s\, named after the steadfast delivery horse that served the historic storefront we now call home\, represents a blend of tradition and innovation. This European deli and grocery store not only offers a taste of Europe but also embodies a commitment to community and sustainability. Here\, every dish and product is a testament to Kim&#39\;s culinary expertise and her deep-rooted passion for bringing people together through food.</p>\n\n<p -webkit-font-smoothing:="" background-color:="" color:="" font-size:="" line-height:="" margin:="">We invite you to experience a unique blend of flavors and experiences at Pelo&#39\;s\, where every visit celebrates the rich tapestry of European cuisine and the vibrant local culture of Longmont.</p>\n</div>\n
LOCATION:
UID:e.3083.12276
SEQUENCE:3
DTSTAMP:20260421T160540Z
URL:https://members.longmontchamber.org/events/details/ribbon-cutting-pelo-s-deli-and-provisions-12276
END:VEVENT

END:VCALENDAR
