BEGIN:VCALENDAR
VERSION:2.0
PRODID:-//ChamberMaster//Event Calendar 2.0//EN
METHOD:PUBLISH
X-PUBLISHED-TTL:P3D
REFRESH-INTERVAL:P3D
CALSCALE:GREGORIAN
BEGIN:VEVENT
DTSTART:20191107T230000Z
DTEND:20191108T000000Z
X-MICROSOFT-CDO-ALLDAYEVENT:FALSE
SUMMARY:Ribbon Cutting: Pinocchio's Incredible Italian
DESCRIPTION:Join us at a Ribbon Cutting for Pinocchio's Incredible Italian!\n\n\n\nFounded locally in Longmont in 2003. Pinocchio's now has grown to 9 Colorado locations\, still locally owned and operated. Incredible Italian\, down to the last detail. Dine in\, take-out\, delivery\, and catering!\n\n\n\nRibbon Cuttings are a great way to celebrate our members\, network\, meet fellow Chamber Members and learn something about Longmont businesses.
X-ALT-DESC;FMTTYPE=text/html:Join us at a Ribbon Cutting for Pinocchio&#39\;s Incredible Italian!<br />\n<br />\n<span style="color: rgb(81\, 83\, 81)\; font-family: CenturyGothic\, Arial\, Helvetica\, sans-serif\; font-size: 15px\;">Founded locally in Longmont in 2003. Pinocchio&#39\;s now has grown to 9 Colorado locations\, still locally owned and operated. Incredible Italian\, down to the last detail. Dine in\, take-out\, delivery\, and catering!</span><br />\n<br />\n<span style="color: rgb(0\, 0\, 0)\; font-family: tahoma\; font-size: 14px\;">Ribbon Cuttings are a great way to celebrate our&nbsp\;members\, network\, meet fellow Chamber Members and learn something about Longmont businesses.</span>
LOCATION:210 Ken Pratt Blvd #260 Longmont\, CO 80501
UID:e.3083.7330
SEQUENCE:3
DTSTAMP:20260426T005550Z
URL:https://members.longmontchamber.org/events/details/ribbon-cutting-pinocchio-s-incredible-italian-7330
END:VEVENT

END:VCALENDAR
