BEGIN:VCALENDAR
VERSION:2.0
PRODID:-//ChamberMaster//Event Calendar 2.0//EN
METHOD:PUBLISH
X-PUBLISHED-TTL:P3D
REFRESH-INTERVAL:P3D
CALSCALE:GREGORIAN
BEGIN:VEVENT
DTSTART:20220602T220000Z
DTEND:20220602T230000Z
X-MICROSOFT-CDO-ALLDAYEVENT:FALSE
SUMMARY:Ribbon Cutting | Porch Box
DESCRIPTION:Join us in welcoming new member Porch Box to the Longmont Chamber community! Plan on coming? RSVP here: https://www.facebook.com/events/s/grand-opening-ribbon-cutting/5051295108267636/. \n\n\n\nAbout Porch Box\n\nHandcrafted outdoor wooden boxes in standard and custom sizes. It's storage for your front door! Perfect for home milk delivery\, concealing packages from porch pirates or storing frequently used items like dog toys\, garden shears or umbrellas. At Porch Box\, we build boxes that not only fit your storage needs but conceal your deliveries in a wooden box that's worthy of placement by your front door.
X-ALT-DESC;FMTTYPE=text/html:Join us in welcoming new member Porch Box to the Longmont Chamber community! Plan on coming? RSVP here:&nbsp\;https://www.facebook.com/events/s/grand-opening-ribbon-cutting/5051295108267636/.&nbsp\;<br />\n<br />\n<strong>About Porch Box</strong><br />\nHandcrafted outdoor wooden boxes in standard and custom sizes. It&#39\;s storage for your front door!&nbsp\;Perfect for home milk delivery\, concealing packages from porch pirates or storing frequently used items like dog toys\, garden shears or umbrellas.&nbsp\;At Porch Box\, we build boxes that not only fit your storage needs but conceal your deliveries in a wooden box that&rsquo\;s worthy of placement by your front door.
LOCATION:1115 Colorado Ave Unit A Longmont\, CO
UID:e.3083.8674
SEQUENCE:3
DTSTAMP:20260423T204600Z
URL:https://members.longmontchamber.org/events/details/ribbon-cutting-porch-box-8674
END:VEVENT

END:VCALENDAR
