BEGIN:VCALENDAR
VERSION:2.0
PRODID:-//ChamberMaster//Event Calendar 2.0//EN
METHOD:PUBLISH
X-PUBLISHED-TTL:P3D
REFRESH-INTERVAL:P3D
CALSCALE:GREGORIAN
BEGIN:VEVENT
DTSTART:20241022T220000Z
DTEND:20241022T230000Z
X-MICROSOFT-CDO-ALLDAYEVENT:FALSE
SUMMARY:Ribbon Cutting | Premier Members Credit Union
DESCRIPTION:Join us in celebrating Premier Members Credit Union at their new location!\n\n\n\nAbout PMCU\n\nIt's the second PMCU branch to feature kiosks. These kiosks can perform most basic transactions\, like depositing or withdrawing funds.\n\nOf course\, we'll still have staff available to answer any questions or help you with your financial needs\, like a CD\, mortgage\, or auto loan.\n\nIt's the future of banking at PMCU   and we can't wait for you to experience it.\n\nNow Open!\n\nHours: Mon   Fri\, 9:00 AM   5:00 PM\n\nAddress: 1425 S. Airport Rd\, Suite 108\, Longmont\, CO 80503
X-ALT-DESC;FMTTYPE=text/html:Join us in celebrating Premier Members Credit Union at their new location!<br />\n<br />\n<strong>About PMCU</strong>\n<div color:="" font-feature-settings:="" font-kerning:="" font-optical-sizing:="" font-variation-settings:="" helvetica="" margin:="" padding:="" segoe="" ui="" vertical-align:="" web="" west="">\n<p>It&rsquo\;s the second PMCU branch to feature kiosks. These kiosks can perform most basic transactions\, like depositing or withdrawing funds.</p>\n\n<p>Of course\, we&rsquo\;ll still have staff available to answer any questions or help you with your financial needs\, like a CD\, mortgage\, or auto loan.</p>\n\n<p>It&rsquo\;s the future of banking at PMCU &ndash\; and we can&rsquo\;t wait for you to experience it.</p>\n\n<p>Now Open!</p>\n\n<p>Hours: Mon &ndash\; Fri\, 9:00 AM &ndash\; 5:00 PM</p>\n\n<p>Address: 1425 S. Airport Rd\, Suite 108\, Longmont\, CO 80503</p>\n</div>\n
LOCATION:
UID:e.3083.10230
SEQUENCE:3
DTSTAMP:20260422T013753Z
URL:https://members.longmontchamber.org/events/details/ribbon-cutting-premier-members-credit-union-10230
END:VEVENT

END:VCALENDAR
