BEGIN:VCALENDAR
VERSION:2.0
PRODID:-//ChamberMaster//Event Calendar 2.0//EN
METHOD:PUBLISH
X-PUBLISHED-TTL:P3D
REFRESH-INTERVAL:P3D
CALSCALE:GREGORIAN
BEGIN:VEVENT
DTSTART:20240229T230000Z
DTEND:20240301T000000Z
X-MICROSOFT-CDO-ALLDAYEVENT:FALSE
SUMMARY:Ribbon Cutting | Property Craft
DESCRIPTION:Join us in celebrating Property Craft!\n\n\n\nAbout Property Craft\n\n\n\nProperty Craft\, a leading name in restoration\, is thrilled to announce the grand opening of its fifth location in Longmont\, Colorado.\n\n\n\nProperty Craft has established itself as a trusted name in the Restoration industry\, known for its unwavering commitment to excellence and customer satisfaction. With a proven track record of nearly ten years\, the company has successfully expanded its footprint to five locations\, offering premier restoration services to meet its clientele's diverse needs for their home or business. Specializing in water\, fire\, smoke\, mold mitigation/removal/remediation\, emergency board ups\, biohazard/crime scene cleanup\, meth lab clean up\, and asbestos abatement.\n\n\n\nExpanding Horizons in Longmont: The decision to open a fifth location in Longmont reflects Property Craft's dedication to providing unparalleled services and support to the local community. Longmont's dynamic business environment and vibrant community make it an ideal setting for Property Craft's continued growth. With a higher demand for more than just more than servicing home service\, we focus on air quality and being the voice for the property.\n\n\n\n"We are excited to plant our roots deeper in the Longmont community and look forward to contributing to its growth and prosperity. This new location represents not just a physical expansion for Property Craft but a commitment to building lasting relationships with the wonderful people in the Longmont and Boulder communities\,"  ~ Joshua Sparks\, Co-Owner and CWO at Property Craft
X-ALT-DESC;FMTTYPE=text/html:Join us in celebrating Property Craft!<br />\n<br />\n<strong>About Property Craft</strong><br />\n<br />\nProperty Craft\, a leading name in restoration\, is thrilled to announce the grand opening of its fifth location in Longmont\, Colorado.<br />\n<br />\nProperty Craft has established itself as a trusted name in the Restoration industry\, known for its unwavering commitment to excellence and customer satisfaction. With a proven track record of nearly ten years\, the company has successfully expanded its footprint to five locations\, offering premier restoration services to meet its clientele&#39\;s diverse needs for their home or business. Specializing in water\, fire\, smoke\, mold mitigation/removal/remediation\, emergency board ups\, biohazard/crime scene cleanup\, meth lab clean up\, and asbestos abatement.<br />\n<br />\nExpanding Horizons in Longmont: The decision to open a fifth location in Longmont reflects Property Craft&#39\;s dedication to providing unparalleled services and support to the local community. Longmont&#39\;s dynamic business environment and vibrant community make it an ideal setting for Property Craft&#39\;s continued growth. With a higher demand for more than just more than servicing home service\, we focus on air quality and being the voice for the property.<br />\n<br />\n&quot\;We are excited to plant our roots deeper in the Longmont community and look forward to contributing to its growth and prosperity. This new location represents not just a physical expansion for Property Craft but a commitment to building lasting relationships with the wonderful people in the Longmont and Boulder communities\,&quot\;&nbsp\; ~ Joshua Sparks\, Co-Owner and CWO at Property Craft
LOCATION:Hosted at The Local Drive\, 110 Emery Street Join us for craft cocktails\, golf simulation and great networking!
UID:e.3083.9990
SEQUENCE:3
DTSTAMP:20260422T133055Z
URL:https://members.longmontchamber.org/events/details/ribbon-cutting-property-craft-9990
END:VEVENT

END:VCALENDAR
