BEGIN:VCALENDAR
VERSION:2.0
PRODID:-//ChamberMaster//Event Calendar 2.0//EN
METHOD:PUBLISH
X-PUBLISHED-TTL:P3D
REFRESH-INTERVAL:P3D
CALSCALE:GREGORIAN
BEGIN:VEVENT
DTSTART:20241119T230000Z
DTEND:20241120T000000Z
X-MICROSOFT-CDO-ALLDAYEVENT:FALSE
SUMMARY:Ribbon Cutting | Red Cedar Bistro
DESCRIPTION:Join us in celebrating Red Cedar Bistro!\n\n\n\nAbout Red Cedar Bistro\n\nSavor the Flavors of Tri-Regional Mediterranean Cuisine at Red Cedar Bistro!\n\nHappy Hour ALL DAY on the 19th!  Live music with Tim Merkel and demo artists!\n\nIndulge in our authentic from scratch dishes made with fresh ingredients\, offering a fresh take on Mediterranean flavors. We will be showcasing flavors from around the Mediterranean\, from southern Europe to northern Africa\, and Levant. Whether you're a vegetarian\, a meat lover\, vegan\, or gluten-free we have something for everyone on our menu.\n\nCome join us for an intimate dining experience\, accentuated by local farm-sourced\, scratch-made dishes and a curated selection of art. Red Cedar Bistro combines the culinary expertise of award-winning Executive Chef Larry Shore\, with his extensive background in Mediterranean cuisine\, and the artistic vision of Sandy Shore\, who curates the restaurant's rotating art exhibitions. Larry's love for the culinary arts was evident from a very young age\, reminiscing\, "I want to be a cooker man\," a declaration he made at just six years old.\n\nThe bistro's atmosphere will be crafted with a palette of antique copper\, dark woods\, and vibrant teals\, providing a warm welcome to diners. The menu will feature a range of Tri-Regional Mediterranean-inspired dishes\, including options for lunch\, dinner and Sunday brunch. Menu Highlights include Classic Gyro on house-made flatbread\, Lamb Bolognese with homemade pasta\, Catalan Branzino\, and the best Sausage and Pepper Sub you've ever had! The restaurant also offers an enthusiastic happy hour with great deals on craft cocktails and small plates.
X-ALT-DESC;FMTTYPE=text/html:Join us in celebrating Red Cedar Bistro!<br />\n<br />\n<strong>About Red Cedar Bistro</strong>\n<div color:="" font-feature-settings:="" font-kerning:="" font-optical-sizing:="" font-variation-settings:="" helvetica="" margin:="" padding:="" segoe="" ui="" vertical-align:="" web="" west="">\n<p font-size:="" new="" times="">Savor the Flavors of Tri-Regional Mediterranean Cuisine at Red Cedar Bistro!<br />\nHappy Hour ALL DAY on the 19th!&nbsp\; Live music with Tim Merkel and demo artists!</p>\n\n<p font-size:="" new="" times="">Indulge in our authentic from scratch dishes made with fresh ingredients\, offering a fresh take on Mediterranean flavors. We will be showcasing flavors from around the Mediterranean\, from southern Europe to northern Africa\, and Levant. Whether you&#39\;re a vegetarian\, a meat lover\, vegan\, or gluten-free we have something for everyone on our menu.</p>\n\n<p font-size:="" new="" times="">Come join us for an intimate dining experience\, accentuated by local farm-sourced\, scratch-made dishes and a curated selection of art. Red Cedar Bistro combines the culinary expertise of award-winning Executive Chef Larry Shore\, with his extensive background in Mediterranean cuisine\, and the artistic vision of Sandy Shore\, who curates the restaurant&rsquo\;s rotating art exhibitions. Larry&rsquo\;s love for the culinary arts was evident from a very young age\, reminiscing\, &ldquo\;I want to be a cooker man\,&rdquo\; a declaration he made at just six years old.</p>\n\n<p font-size:="" new="" times="">The bistro&rsquo\;s atmosphere will be crafted with a palette of antique copper\, dark woods\, and vibrant teals\, providing a warm welcome to diners. The menu will feature a range of Tri-Regional Mediterranean-inspired dishes\, including options for lunch\, dinner and Sunday brunch. Menu Highlights include Classic Gyro on house-made flatbread\, Lamb Bolognese with homemade pasta\, Catalan Branzino\, and the best Sausage and Pepper Sub you&rsquo\;ve ever had! The restaurant also offers an enthusiastic happy hour with great deals on craft cocktails and small plates.</p>\n</div>\n
LOCATION:
UID:e.3083.10262
SEQUENCE:3
DTSTAMP:20260421T223330Z
URL:https://members.longmontchamber.org/events/details/ribbon-cutting-red-cedar-bistro-10262
END:VEVENT

END:VCALENDAR
