BEGIN:VCALENDAR
VERSION:2.0
PRODID:-//ChamberMaster//Event Calendar 2.0//EN
METHOD:PUBLISH
X-PUBLISHED-TTL:P3D
REFRESH-INTERVAL:P3D
CALSCALE:GREGORIAN
BEGIN:VEVENT
DTSTART:20251023T220000Z
DTEND:20251023T230000Z
X-MICROSOFT-CDO-ALLDAYEVENT:FALSE
SUMMARY:Ribbon Cutting | Revive Dental
DESCRIPTION:Join us in celebrating Revive Dental!\n\n\n\nAbout \n\nAt Revive-Dental \, we provide comprehensive\, patient-centered dental care for families and individuals across Longmont\, Boulder\, and Northern Colorado. Led by Dr. Daniel Briskie\, a nationally recognized implant instructor\, our team specializes in advanced dental implant procedures (including All-on-6 full-arch restorations) as well as general and cosmetic dentistry.
X-ALT-DESC;FMTTYPE=text/html:Join us in celebrating Revive Dental!<br />\n<br />\n<strong>About&nbsp\;</strong><br />\n<!--StartFragment--><span data-olk-copy-source="MessageBody">At Revive-Dental&trade\;\, we provide comprehensive\, patient-centered dental care for families and individuals across Longmont\, Boulder\, and Northern Colorado. Led by Dr. Daniel Briskie\, a nationally recognized implant instructor\, our team specializes in advanced dental implant procedures (including All-on-6 full-arch restorations) as well as general and cosmetic dentistry.</span><!--EndFragment-->\n<div color:="" font-feature-settings:="" font-kerning:="" font-optical-sizing:="" font-variation-settings:="" helvetica="" margin:="" padding:="" segoe="" ui="" vertical-align:="" web="" west="">\n<p>&nbsp\;</p>\n</div>\n
LOCATION:
UID:e.3083.14246
SEQUENCE:3
DTSTAMP:20260421T051444Z
URL:https://members.longmontchamber.org/events/details/ribbon-cutting-revive-dental-14246
END:VEVENT

END:VCALENDAR
