BEGIN:VCALENDAR
VERSION:2.0
PRODID:-//ChamberMaster//Event Calendar 2.0//EN
METHOD:PUBLISH
X-PUBLISHED-TTL:P3D
REFRESH-INTERVAL:P3D
CALSCALE:GREGORIAN
BEGIN:VEVENT
DTSTART:20240405T220000Z
DTEND:20240405T230000Z
X-MICROSOFT-CDO-ALLDAYEVENT:FALSE
SUMMARY:Ribbon Cutting | Rewind Med Spa
DESCRIPTION:Join us in celebrating Rewind Med Spa for their Grand Opening Celebration!\n\n\n\nAbout Rewind Med Spa:\nWelcome to Rewind Med Spa - Longmont's premier medical spa for all your beauty and wellness needs! Our provider\, Jessica Reeder Ayala\, RN\, blends science and art to offer a range of unique beauty treatments and wellness services that give you a natural and refreshed look. Our spa offers an extensive range of services including facials\, waxing\, hair extensions\, scalp facials\, and more\, to ensure that you look and feel your best from head to toe.\n\nAt Rewind Med Spa\, we specialize in a variety of aesthetic services\, including Botox\, dermal fillers\, chemical peels\, and other beauty-enhancing treatments that will leave you feeling your best. But our services go beyond the surface - with our science-backed wellness remedies such as IV fluids and vitamin injections\, you can rejuvenate your body from the inside out and feel refreshed after a long day.\n\nOur team of experts are dedicated to providing you with the best possible care and restoring your self-esteem and enhancing your wellness. We serve Longmont\, CO\, and its surrounding areas\, so come and discover how you can rewind the hands of time at Rewind Med Spa. We can't wait for you to experience our services!
X-ALT-DESC;FMTTYPE=text/html:Join us in celebrating Rewind Med Spa for their Grand Opening Celebration!<br />\n<br />\nAbout Rewind Med Spa:\n<p 0px="" font-feature-settings:="" font-kerning:="" font-stretch:="" font-variant-alternates:="" font-variant-east-asian:="" font-variant-numeric:="" line-height:="" margin:="" new="" times="">Welcome to Rewind Med Spa - Longmont&#39\;s premier medical spa for all your beauty and wellness needs! Our provider\, Jessica Reeder Ayala\, RN\, blends science and art to offer a range of unique beauty treatments and wellness services that give you a natural and refreshed look. Our spa offers an extensive range of services including facials\, waxing\, hair extensions\, scalp facials\, and more\, to ensure that you look and feel your best from head to toe.</p>\n\n<p 0px="" font-feature-settings:="" font-kerning:="" font-stretch:="" font-variant-alternates:="" font-variant-east-asian:="" font-variant-numeric:="" line-height:="" margin:="" new="" times="">At Rewind Med Spa\, we specialize in a variety of aesthetic services\, including Botox\, dermal fillers\, chemical peels\, and other beauty-enhancing treatments that will leave you feeling your best. But our services go beyond the surface - with our science-backed wellness remedies such as IV fluids and vitamin injections\, you can rejuvenate your body from the inside out and feel refreshed after a long day.</p>\n\n<p 0px="" font-feature-settings:="" font-kerning:="" font-stretch:="" font-variant-alternates:="" font-variant-east-asian:="" font-variant-numeric:="" line-height:="" margin:="" new="" times="">Our team of experts are dedicated to providing you with the best possible care and restoring your self-esteem and enhancing your wellness. We serve Longmont\, CO\, and its surrounding areas\, so come and discover how you can rewind the hands of time at Rewind Med Spa. We can&#39\;t wait for you to experience our services!</p>\n\n<div>&nbsp\;</div>\n\n<div color:="" dir="ltr" font-feature-settings:="" font-kerning:="" font-optical-sizing:="" font-variation-settings:="" helvetica="" margin:="" padding:="" segoe="" style="border: 0px\; font-variant-numeric: inherit\; font-variant-east-asian: inherit\; font-variant-alternates: inherit\; font-variant-position: inherit\; font-stretch: inherit\; font-size: 15px\; line-height: inherit\; font-family: " ui="" vertical-align:="" web="" west="">&nbsp\;</div>\n
LOCATION:
UID:e.3083.10068
SEQUENCE:3
DTSTAMP:20260422T104938Z
URL:https://members.longmontchamber.org/events/details/ribbon-cutting-rewind-med-spa-10068
END:VEVENT

END:VCALENDAR
