BEGIN:VCALENDAR
VERSION:2.0
PRODID:-//ChamberMaster//Event Calendar 2.0//EN
METHOD:PUBLISH
X-PUBLISHED-TTL:P3D
REFRESH-INTERVAL:P3D
CALSCALE:GREGORIAN
BEGIN:VEVENT
DTSTART:20230706T220000Z
DTEND:20230706T230000Z
X-MICROSOFT-CDO-ALLDAYEVENT:FALSE
SUMMARY:Ribbon Cutting | Roots
DESCRIPTION:Join us in welcoming new member Roots to the Longmont Chamber community!\n\n\n\nAbout Roots\n\n\n\nDiscover the diverse flavors of the world at Roots\, where our menu features a delightful blend of global cuisines. Enhance your dining experience with our thoughtfully crafted menus\, designed to satisfy every palate. Whether you're organizing a corporate event or a memorable party\, let us assist in planning an unforgettable occasion. Our historic venue\, Dickens Opera House\, is available for both catering and hosting - offering a unique setting that suits any event\, from lively concerts to joyous weddings. \n\n\n\nAs a family-owned establishment for over two decades\, we take great pride in our award-winning recipes and support for local nonprofits. We are committed to fair wages for our staff and to environmental sustainability. At Roots\, we cater to your taste buds as we nurture our planet - hence the name\, Roots.  We love to cook in your language!
X-ALT-DESC;FMTTYPE=text/html:<br />\nJoin us in welcoming new member Roots to the Longmont Chamber community!<br />\n<br />\n<strong>About Roots</strong><br />\n<br />\nDiscover the diverse flavors of the world at Roots\, where our menu features a delightful blend of global cuisines. Enhance your dining experience with our thoughtfully crafted menus\, designed to satisfy every palate. Whether you&#39\;re organizing a corporate event or a memorable party\, let us assist in planning an unforgettable occasion. Our historic venue\, Dickens Opera House\, is available for both catering and hosting - offering a unique setting that suits any event\, from lively concerts to joyous weddings.&nbsp\;<br />\n<br />\nAs a family-owned establishment for over two decades\, we take great pride in our award-winning recipes and support for local nonprofits. We are committed to fair wages for our staff and to environmental sustainability. At Roots\, we cater to your taste buds as we nurture our planet - hence the name\, Roots.&nbsp\; We love to cook in your language!
LOCATION:
UID:e.3083.9721
SEQUENCE:3
DTSTAMP:20260423T004955Z
URL:https://members.longmontchamber.org/events/details/ribbon-cutting-roots-9721
END:VEVENT

END:VCALENDAR
