BEGIN:VCALENDAR
VERSION:2.0
PRODID:-//ChamberMaster//Event Calendar 2.0//EN
METHOD:PUBLISH
X-PUBLISHED-TTL:P3D
REFRESH-INTERVAL:P3D
CALSCALE:GREGORIAN
BEGIN:VEVENT
DTSTART:20250807T220000Z
DTEND:20250807T230000Z
X-MICROSOFT-CDO-ALLDAYEVENT:FALSE
SUMMARY:Ribbon Cutting | Roots and Wings
DESCRIPTION:Join us in celebrating Roots and Wings!\n\n\n\nAbout Roots and Wings Grief and Loss Coaching\n\nGrief support for adults coping with any loss.  Redefine.  Live.\n\nOffering in-person grief support and virtual grief support groups.\n\nIf you've experienced a loss\, whether it's a loved one\, a job\, or your home\, you may feel lost yourself.  You may find yourself stuck\, even months or years after a loss that disrupted your life in such a fundamental way.  It can feel like you've lost a part of yourself and even your identity.\n\nIn collaboration with you\, we can find paths to feeling whole again as you redefine your life and love yourself more.
X-ALT-DESC;FMTTYPE=text/html:Join us in celebrating Roots and Wings!<br />\n<br />\n<strong>About Roots and Wings Grief and Loss Coaching</strong>\n<div color:="" font-feature-settings:="" font-kerning:="" font-optical-sizing:="" font-variation-settings:="" helvetica="" margin:="" padding:="" segoe="" ui="" vertical-align:="" web="" west="">\n<p>Grief support for adults coping with any loss.&nbsp\; Redefine.&nbsp\; Live.<br />\nOffering in-person grief support and virtual grief support groups.<br />\nIf you&#39\;ve experienced a loss\, whether it&#39\;s a loved one\, a job\, or your home\, you may feel lost yourself.&nbsp\; You may find yourself stuck\, even months or years after a loss that disrupted your life in such a fundamental way.&nbsp\; It can feel like you&#39\;ve lost a part of yourself and even your identity.<br />\nIn collaboration with you\, we can find paths to feeling whole again as you redefine your life and love yourself more.</p>\n</div>\n
LOCATION:The Times Collaborative
UID:e.3083.13583
SEQUENCE:3
DTSTAMP:20260421T093908Z
URL:https://members.longmontchamber.org/events/details/ribbon-cutting-roots-and-wings-13583
END:VEVENT

END:VCALENDAR
