BEGIN:VCALENDAR
VERSION:2.0
PRODID:-//ChamberMaster//Event Calendar 2.0//EN
METHOD:PUBLISH
X-PUBLISHED-TTL:P3D
REFRESH-INTERVAL:P3D
CALSCALE:GREGORIAN
BEGIN:VEVENT
DTSTART:20241001T220000Z
DTEND:20241001T230000Z
X-MICROSOFT-CDO-ALLDAYEVENT:FALSE
SUMMARY:Ribbon Cutting | Safe Shelter\, Hosted by 1st Interstate Bank
DESCRIPTION:Join us in celebrating Safe Shelter!  This Ribbon Cutting is being hosted by 1st Interstate Bank.  They will be presenting a check to Safe Shelter during the ceremony.\n\n\n\nAbout Safe Shelter\n\n\n\n\nOur History\n\nFounded in Response to Community Need\n\nSafe Shelter of St. Vrain Valley was established in response to the growing need for support and resources for individuals impacted by domestic violence and related issues in the community. Recognizing the critical lack of services for survivors\, a dedicated group of community members came together to create a safe haven where individuals and families could find refuge and support.  In some cases\, even opening their homes in lieu of any other options.\n\nEarly Years and Expansion of Services\n\nIn its early years\, Safe Shelter focused on providing emergency shelter and crisis intervention services. As the organization grew\, it expanded its offerings to include individual and group counseling\, case management\, legal advocacy\, and community education programs. These services were designed to address not only the immediate safety needs of survivors but also to support their long-term healing and empowerment.\n\n\n\n\n\nOur Mission\n\n\n\n\n\n\n\n\n\nSafe Shelter's mission is to provide safety\, support and resources to individuals affected by domestic and gender based violence\, abuse in later life\, teen dating violence\, and human trafficking.\n\n\n\nOur Vision\n\n\n\n\n\nAt Safe Shelter\, we envision a community free from domestic and gender based violence where everyone will live with safety\, dignity\, and respect feeling independent and self-assured.
X-ALT-DESC;FMTTYPE=text/html:Join us in celebrating Safe Shelter!&nbsp\; This Ribbon Cutting is being hosted by 1st Interstate Bank.&nbsp\; They will be presenting a check to Safe Shelter during the ceremony.<br />\n<br />\n<strong>About Safe Shelter</strong>\n<div>\n<div data-blend-mode="NORMAL" data-block-type="2" data-border-radii="{" id="block-80931164ebd7d57fcfc0">\n<div>\n<div>\n<p><strong><span style="font-size:18px\;">Our History</span></strong></p>\n\n<p><span style="font-size:16px\;">Founded in Response to Community Need</span></p>\n\n<p>Safe Shelter of St. Vrain Valley was established in response to the growing need for support and resources for individuals impacted by domestic violence and related issues in the community. Recognizing the critical lack of services for survivors\, a dedicated group of community members came together to create a safe haven where individuals and families could find refuge and support.&nbsp\; In some cases\, even opening their homes in lieu of any other options.</p>\n\n<p><span style="font-size:16px\;">Early Years and Expansion of Services</span></p>\n\n<p>In its early years\, Safe Shelter focused on providing emergency shelter and crisis intervention services. As the organization grew\, it expanded its offerings to include individual and group counseling\, case management\, legal advocacy\, and community education programs. These services were designed to address not only the immediate safety needs of survivors but also to support their long-term healing and empowerment.</p>\n\n<div>\n<div data-blend-mode="NORMAL" data-block-type="2" data-border-radii="{" id="block-443b56ada526f929bc4a">\n<div>\n<div>\n<h1><strong><span style="font-size:18px\;">Our Mission</span></strong></h1>\n</div>\n</div>\n</div>\n</div>\n\n<div>\n<div data-blend-mode="NORMAL" data-block-type="2" data-border-radii="{" id="block-yui_3_17_2_1_1722833771639_79520">\n<div>\n<div>\n<p>Safe Shelter&#39\;s mission is to provide safety\, support and resources to individuals affected by domestic and gender based violence\, abuse in later life\, teen dating violence\, and human trafficking.<br />\n<br />\n<strong><span style="font-size:18px\;">Our Vision</span></strong></p>\n\n<div>\n<div data-blend-mode="NORMAL" data-block-type="2" data-border-radii="{" id="block-d76fba71326a73804dda">\n<div>\n<div>\n<p>At Safe Shelter\, we envision a community free from domestic and gender based violence where everyone will live with safety\, dignity\, and respect feeling independent and self-assured.</p>\n</div>\n</div>\n</div>\n</div>\n</div>\n</div>\n</div>\n</div>\n\n<p>&nbsp\;</p>\n</div>\n</div>\n</div>\n</div>\n
LOCATION:Note: this Ribbon Cutting is being hosted at 1st Interstate Bank in Longmont.
UID:e.3083.10195
SEQUENCE:3
DTSTAMP:20260422T013748Z
URL:https://members.longmontchamber.org/events/details/ribbon-cutting-safe-shelter-hosted-by-1st-interstate-bank-10195
END:VEVENT

END:VCALENDAR
