BEGIN:VCALENDAR
VERSION:2.0
PRODID:-//ChamberMaster//Event Calendar 2.0//EN
METHOD:PUBLISH
X-PUBLISHED-TTL:P3D
REFRESH-INTERVAL:P3D
CALSCALE:GREGORIAN
BEGIN:VEVENT
DTSTART:20220422T220000Z
DTEND:20220422T230000Z
X-MICROSOFT-CDO-ALLDAYEVENT:FALSE
SUMMARY:Ribbon Cutting | Scooter's Coffee
DESCRIPTION:Join us in welcoming new member Scooter's Coffee to the Longmont Chamber community!\n\n\n\nAbout Scooter's Coffee\n\nScooter's Coffee\, founded in 1998 by Don & Linda Eckles in Bellevue\, Nebraska\, is best known for its amazingly fast drive-thru\, specialty coffee\, and baked-from-scratch pastries.
X-ALT-DESC;FMTTYPE=text/html:Join us in welcoming new member Scooter&#39\;s Coffee to the Longmont Chamber community!<br />\n<br />\n<strong>About Scooter&#39\;s Coffee</strong><br />\nScooter&rsquo\;s Coffee\, founded in 1998 by Don &amp\; Linda Eckles in Bellevue\, Nebraska\, is best known for its amazingly fast drive-thru\, specialty coffee\, and baked-from-scratch pastries.
LOCATION:2151 N Main St Longmont\, CO
UID:e.3083.8677
SEQUENCE:3
DTSTAMP:20260424T000032Z
URL:https://members.longmontchamber.org/events/details/ribbon-cutting-scooter-s-coffee-8677
END:VEVENT

END:VCALENDAR
