BEGIN:VCALENDAR
VERSION:2.0
PRODID:-//ChamberMaster//Event Calendar 2.0//EN
METHOD:PUBLISH
X-PUBLISHED-TTL:P3D
REFRESH-INTERVAL:P3D
CALSCALE:GREGORIAN
BEGIN:VEVENT
DTSTART:20220607T220000Z
DTEND:20220607T230000Z
X-MICROSOFT-CDO-ALLDAYEVENT:FALSE
SUMMARY:Ribbon Cutting | Shine Bright Car Wash
DESCRIPTION:Join us in welcoming new member Shine Bright Car Wash to the Longmont Chamber community!\n\n\n\nAbout Shine Bright Car Wash\n\nRemodeled car wash that's self serve or automatic!
X-ALT-DESC;FMTTYPE=text/html:Join us in welcoming new member Shine Bright Car Wash to the Longmont Chamber community!<br />\n<br />\n<strong>About Shine Bright Car Wash</strong><br />\nRemodeled car wash that&#39\;s self serve or automatic!
LOCATION:1102 Main St. Longmont\, CO
UID:e.3083.8693
SEQUENCE:3
DTSTAMP:20260423T210140Z
URL:https://members.longmontchamber.org/events/details/ribbon-cutting-shine-bright-car-wash-8693
END:VEVENT

END:VCALENDAR
