BEGIN:VCALENDAR
VERSION:2.0
PRODID:-//ChamberMaster//Event Calendar 2.0//EN
METHOD:PUBLISH
X-PUBLISHED-TTL:P3D
REFRESH-INTERVAL:P3D
CALSCALE:GREGORIAN
BEGIN:VEVENT
DTSTART:20241029T220000Z
DTEND:20241029T230000Z
X-MICROSOFT-CDO-ALLDAYEVENT:FALSE
SUMMARY:Ribbon Cutting | SKAZMA - New Location & 20 Year Anniversary!
DESCRIPTION:Join us in celebrating SKAZMA!\n\n\n\nAbout SKAZMA\n\nSKAZMA is thrilled to announce the opening of our new location\, where we continue our dedicated service to the community with even greater capacity. Our new facility is equipped with the latest resources\, ensuring we can meet the evolving needs of those we serve. At SKAZMA\, our priority is to uplift the community through exceptional service and a warm\, welcoming environment. We invite you to visit our new location and experience firsthand the quality and care that SKAZMA is known for. Thank you for allowing SKAZMA to customize your world.
X-ALT-DESC;FMTTYPE=text/html:Join us in celebrating SKAZMA!<br />\n<br />\n<strong>About SKAZMA</strong>\n<div color:="" font-feature-settings:="" font-kerning:="" font-optical-sizing:="" font-variation-settings:="" helvetica="" margin:="" padding:="" segoe="" ui="" vertical-align:="" web="" west="">\n<p><span style="color: rgb(36\, 36\, 36)\; font-family: Aptos\, sans-serif\; font-size: 14.6667px\;">SKAZMA is thrilled to announce the opening of our new location\, where we continue our dedicated service to the community with even greater capacity. Our new facility is equipped with the latest resources\, ensuring we can meet the evolving needs of those we serve. At SKAZMA\, our priority is to uplift the community through exceptional service and a warm\, welcoming environment. We invite you to visit our new location and experience firsthand the quality and care that SKAZMA is known for. Thank you for allowing SKAZMA&nbsp\;to customize your world.</span></p>\n</div>\n
LOCATION:
UID:e.3083.10196
SEQUENCE:3
DTSTAMP:20260421T235856Z
URL:https://members.longmontchamber.org/events/details/ribbon-cutting-skazma-new-location-20-year-anniversary-10196
END:VEVENT

END:VCALENDAR
