BEGIN:VCALENDAR
VERSION:2.0
PRODID:-//ChamberMaster//Event Calendar 2.0//EN
METHOD:PUBLISH
X-PUBLISHED-TTL:P3D
REFRESH-INTERVAL:P3D
CALSCALE:GREGORIAN
BEGIN:VEVENT
DTSTART:20230511T230000Z
DTEND:20230512T000000Z
X-MICROSOFT-CDO-ALLDAYEVENT:FALSE
SUMMARY:Ribbon Cutting | Small Planet eBikes' New Ownership
DESCRIPTION:Join us in welcoming new member Small Planet eBikes to the Longmont Chamber community!\n\nAbout Small Planet eBikes\n\nCome celebrate Small Planet eBikes' new ownership on Thursday\, May 11\, from 5pm to 6pm. There will also be a "launch party" on Saturday\, May 13 from 10am to 4pm.\n\n\n\nAs the first eBike retailer in Colorado\, we know a thing or two about electric-assist bicycles and other electric-powered personal transportation machines. We've been advocating alternative transportation and energy by helping hundreds of happy customers find the perfect eBike for 15 years!
X-ALT-DESC;FMTTYPE=text/html:<p>Join us in welcoming new member Small Planet eBikes&nbsp\;to the Longmont Chamber community!</p>\n\n<p><strong>About&nbsp\;Small&nbsp\;Planet eBikes</strong><br />\nCome celebrate Small Planet eBikes&#39\; new ownership on Thursday\, May 11\, from 5pm to 6pm. There will also be a&nbsp\;&ldquo\;launch party&rdquo\; on Saturday\, May 13 from 10am to 4pm.<br />\n<br />\nAs the first eBike retailer in Colorado\, we know a thing or two about electric-assist bicycles and other electric-powered personal transportation machines. We&#39\;ve been advocating alternative transportation and energy by helping hundreds of happy customers find the perfect eBike for 15 years!&nbsp\;</p>\n
LOCATION:
UID:e.3083.9675
SEQUENCE:3
DTSTAMP:20260423T033802Z
URL:https://members.longmontchamber.org/events/details/ribbon-cutting-small-planet-ebikes-new-ownership-9675
END:VEVENT

END:VCALENDAR
