BEGIN:VCALENDAR
VERSION:2.0
PRODID:-//ChamberMaster//Event Calendar 2.0//EN
METHOD:PUBLISH
X-PUBLISHED-TTL:P3D
REFRESH-INTERVAL:P3D
CALSCALE:GREGORIAN
BEGIN:VEVENT
DTSTART:20240824T160000Z
DTEND:20240824T170000Z
X-MICROSOFT-CDO-ALLDAYEVENT:FALSE
SUMMARY:Ribbon Cutting | Smoothie King - Grand Opening!
DESCRIPTION:Join us in celebrating Smoothie King's Grand Opening!\n\n\n\nAbout Smoothie King\n\nOur Story\n\nNURTURING PASSION.\n\nNOURISHING PURPOSE.\n\nWe believe each day is filled with promise and possibility. And our purpose is to help you get the most out of it. That's why each of our ingredients is chosen carefully\, and every one of our blends is crafted masterfully. So you can be your best self\, live your best life\, and rule the day.\n\n\n\nOur Mission\n\nInspire people to live a healthy and active lifestyle.\n\n\n\nOur Vision\n\nTo be an integral part of every health and fitness journey.
X-ALT-DESC;FMTTYPE=text/html:Join us in celebrating Smoothie King&#39\;s Grand Opening!<br />\n<br />\n<strong>About Smoothie King</strong>\n<div color:="" font-feature-settings:="" font-kerning:="" font-optical-sizing:="" font-variation-settings:="" helvetica="" margin:="" padding:="" segoe="" ui="" vertical-align:="" web="" west="">\n<h2>Our Story</h2>\n\n<h3>NURTURING PASSION.<br />\nNOURISHING PURPOSE.</h3>\n\n<p>We believe each day is filled with promise and possibility. And our purpose is to help you get the most out of it. That&rsquo\;s why each of our ingredients is chosen carefully\, and every one of our blends is crafted masterfully. So you can be your best self\, live your best life\, and rule the day.<br />\n<br />\nOur Mission<br />\nInspire people to live a healthy and active lifestyle.<br />\n<br />\nOur Vision<br />\nTo be an integral part of every health and fitness journey.</p>\n</div>\n
LOCATION:
UID:e.3083.10182
SEQUENCE:3
DTSTAMP:20260422T032121Z
URL:https://members.longmontchamber.org/events/details/ribbon-cutting-smoothie-king-grand-opening-10182
END:VEVENT

END:VCALENDAR
