BEGIN:VCALENDAR
VERSION:2.0
PRODID:-//ChamberMaster//Event Calendar 2.0//EN
METHOD:PUBLISH
X-PUBLISHED-TTL:P3D
REFRESH-INTERVAL:P3D
CALSCALE:GREGORIAN
BEGIN:VEVENT
DTSTART:20210923T220000Z
DTEND:20210923T230000Z
X-MICROSOFT-CDO-ALLDAYEVENT:FALSE
SUMMARY:Ribbon Cutting | Snarkington's
DESCRIPTION:Join us as we officially cut the celebratory ribbon on Snarkington's!\n\n\n\nAbout Snarkington's\n\nGifts are a special break from the norm. That's why Snarkington's has gifts for all occasions   birthdays\, anniversaries\, congratulations\, and even bereavement. If your sense of humor refuses to grow up\, you are in good company! There is "aww" and "omg" in one place\, with sweet gifts and snarky treasures for everyone on your list. Whether it is a greeting card\, a funny pair of socks\, or the perfect piece of jewelry   we have you covered.\n\n\n\nPer the Boulder County Health Order issued September 3rd\, we are requiring that all individuals wear a mask at this event.
X-ALT-DESC;FMTTYPE=text/html:Join us as we officially cut the celebratory ribbon on Snarkington&#39\;s!<br />\n<br />\n<strong>About Snarkington&#39\;s</strong><br />\nGifts are a special break from the norm. That&rsquo\;s why Snarkington&rsquo\;s has gifts for all occasions &ndash\; birthdays\, anniversaries\, congratulations\, and even bereavement. If your sense of humor refuses to grow up\, you are in good company! There is &ldquo\;aww&rdquo\; and &ldquo\;omg&rdquo\; in one place\, with sweet gifts and snarky treasures for everyone on your list. Whether it is a greeting card\, a funny pair of socks\, or the perfect piece of jewelry &ndash\; we have you covered.<br />\n<br />\n<strong>Per the Boulder County Health Order issued September 3rd\, we are requiring that all individuals wear a mask at this event.</strong>
LOCATION:Snarkington's Gifts 324 Main St Longmont\, CO 80501
UID:e.3083.8485
SEQUENCE:3
DTSTAMP:20260424T110319Z
URL:https://members.longmontchamber.org/events/details/ribbon-cutting-snarkington-s-8485
END:VEVENT

END:VCALENDAR
